BEGIN:VCALENDAR
VERSION:2.0
PRODID:-//AusschreibungsRadar//Timeline//DE
CALSCALE:GREGORIAN
METHOD:PUBLISH
X-WR-CALNAME:Projekt Gemeinde Eisenberg - Wohnen in Zell - Technische Ausrüstung 
X-WR-TIMEZONE:Europe/Berlin
BEGIN:VEVENT
UID:871bbd41a78b6e86@ausschreibungsradar.com
DTSTAMP:20260425T003148Z
DTSTART;VALUE=DATE:20260327
DTEND;VALUE=DATE:20260327
SUMMARY:Ausschreibung — Gemeinde Eisenberg - Wohnen in Zell - Technische Ausrüstung 
DESCRIPTION:Phase: Ausschreibung | Beschreibung: Offizielle Ausschreibung mit Bieterfrist. | Link: https://ausschreibungsradar.com/ausschreibung/2933b449-2a04-4a5f-90c0-e6380173d240/
URL:https://ausschreibungsradar.com/ausschreibung/2933b449-2a04-4a5f-90c0-e6380173d240/
END:VEVENT
BEGIN:VEVENT
UID:5ca0e31092de3638@ausschreibungsradar.com
DTSTAMP:20260425T003148Z
DTSTART;VALUE=DATE:20260327
DTEND;VALUE=DATE:20260327
SUMMARY:Ausschreibung — Gemeinde Eisenberg - Wohnen in Zell - Technische Ausrüstung 
DESCRIPTION:Phase: Ausschreibung | Beschreibung: Offizielle Ausschreibung mit Bieterfrist. | Link: https://ausschreibungsradar.com/ausschreibung/8a3bc7e5-4a3c-4d35-89c2-43f0df277497/
URL:https://ausschreibungsradar.com/ausschreibung/8a3bc7e5-4a3c-4d35-89c2-43f0df277497/
END:VEVENT
END:VCALENDAR
