BEGIN:VCALENDAR
VERSION:2.0
PRODID:-//AusschreibungsRadar//Timeline//DE
CALSCALE:GREGORIAN
METHOD:PUBLISH
X-WR-CALNAME:Projekt 18.2 Malerarbeiten
X-WR-TIMEZONE:Europe/Berlin
BEGIN:VEVENT
UID:f3f8744eff8cf53c@ausschreibungsradar.com
DTSTAMP:20260425T194311Z
DTSTART;VALUE=DATE:20260212
DTEND;VALUE=DATE:20260212
SUMMARY:Ausschreibung — 18.2 Malerarbeiten
DESCRIPTION:Phase: Ausschreibung | Beschreibung: Angebote werden eingeholt | Link: https://ausschreibungsradar.com/ausschreibung/2963d9d3-2284-4d52-92be-9379f06d4093/ | Geschätzter Wert: 129577 €
URL:https://ausschreibungsradar.com/ausschreibung/2963d9d3-2284-4d52-92be-9379f06d4093/
END:VEVENT
BEGIN:VEVENT
UID:894c94d85b42f403@ausschreibungsradar.com
DTSTAMP:20260425T194311Z
DTSTART;VALUE=DATE:20260414
DTEND;VALUE=DATE:20260414
SUMMARY:Vergabeergebnis — 18.2 Malerarbeiten
DESCRIPTION:Phase: Vergabeergebnis | Beschreibung: Auftrag wurde zugeschlagen | Link: https://ausschreibungsradar.com/ausschreibung/32d82b76-992e-41c8-bd3f-1d6c606513c2/ | Geschätzter Wert: 129577 €
URL:https://ausschreibungsradar.com/ausschreibung/32d82b76-992e-41c8-bd3f-1d6c606513c2/
END:VEVENT
END:VCALENDAR
