BEGIN:VCALENDAR
VERSION:2.0
PRODID:-//AusschreibungsRadar//Timeline//DE
CALSCALE:GREGORIAN
METHOD:PUBLISH
X-WR-CALNAME:Projekt Neubau Bildungscampus Großrinderfeld - Lüftungstechnische An
X-WR-TIMEZONE:Europe/Berlin
BEGIN:VEVENT
UID:47391583bbd1daca@ausschreibungsradar.com
DTSTAMP:20260426T041057Z
DTSTART;VALUE=DATE:20251103
DTEND;VALUE=DATE:20251103
SUMMARY:Angebotsfrist — Neubau Bildungscampus Großrinderfeld - Lüftungstechnische An
DESCRIPTION:Phase: Ausschreibung | Beschreibung: Angebote werden eingeholt | Link: https://ausschreibungsradar.com/ausschreibung/af8dc832-f1ec-4a56-8e18-c8ecf3f28da1/
URL:https://ausschreibungsradar.com/ausschreibung/af8dc832-f1ec-4a56-8e18-c8ecf3f28da1/
END:VEVENT
BEGIN:VEVENT
UID:060b9ccee6af8968@ausschreibungsradar.com
DTSTAMP:20260426T041057Z
DTSTART;VALUE=DATE:20260109
DTEND;VALUE=DATE:20260109
SUMMARY:Vergabeergebnis — Neubau Bildungscampus Großrinderfeld - Lüftungstechnische An
DESCRIPTION:Phase: Vergabeergebnis | Beschreibung: Auftrag wurde zugeschlagen | Link: https://ausschreibungsradar.com/ausschreibung/297f4090-86c1-4635-88ad-fd2236823cd1/
URL:https://ausschreibungsradar.com/ausschreibung/297f4090-86c1-4635-88ad-fd2236823cd1/
END:VEVENT
BEGIN:VEVENT
UID:14499994c1949b9a@ausschreibungsradar.com
DTSTAMP:20260426T041057Z
DTSTART;VALUE=DATE:20260109
DTEND;VALUE=DATE:20260109
SUMMARY:Zuschlag — Neubau Bildungscampus Großrinderfeld - Lüftungstechnische An
DESCRIPTION:Phase: Zuschlag | Beschreibung: Vergabeergebnis — Auftrag wurde erteilt oder Verfahren beendet. | Link: https://ausschreibungsradar.com/ausschreibung/1657d845-8a5c-4620-bdb4-566a38090a2c/
URL:https://ausschreibungsradar.com/ausschreibung/1657d845-8a5c-4620-bdb4-566a38090a2c/
END:VEVENT
END:VCALENDAR
