BEGIN:VCALENDAR
VERSION:2.0
PRODID:-//AusschreibungsRadar//Timeline//DE
CALSCALE:GREGORIAN
METHOD:PUBLISH
X-WR-CALNAME:Projekt Umbau und Sanierung Rathaus Gengenbach - Fensterbau
X-WR-TIMEZONE:Europe/Berlin
BEGIN:VEVENT
UID:7cbabc9977f96162@ausschreibungsradar.com
DTSTAMP:20260424T223959Z
DTSTART;VALUE=DATE:20260209
DTEND;VALUE=DATE:20260209
SUMMARY:Ausschreibung — Umbau und Sanierung Rathaus Gengenbach - Fensterbau
DESCRIPTION:Phase: Ausschreibung | Beschreibung: Offizielle Ausschreibung mit Bieterfrist. | Link: https://ausschreibungsradar.com/ausschreibung/6cd94914-4468-4554-b42f-38c03c691015/
URL:https://ausschreibungsradar.com/ausschreibung/6cd94914-4468-4554-b42f-38c03c691015/
END:VEVENT
BEGIN:VEVENT
UID:10682119ddc097fc@ausschreibungsradar.com
DTSTAMP:20260424T223959Z
DTSTART;VALUE=DATE:20260330
DTEND;VALUE=DATE:20260330
SUMMARY:Angebotsfrist — Umbau und Sanierung Rathaus Gengenbach - Fensterbau
DESCRIPTION:Phase: Ausschreibung | Beschreibung: Angebote werden eingeholt | Link: https://ausschreibungsradar.com/ausschreibung/29a3df02-8328-48a9-ab82-67124f8309cd/
URL:https://ausschreibungsradar.com/ausschreibung/29a3df02-8328-48a9-ab82-67124f8309cd/
END:VEVENT
BEGIN:VEVENT
UID:0aec9b9e9ce5832b@ausschreibungsradar.com
DTSTAMP:20260424T223959Z
DTSTART;VALUE=DATE:20260320
DTEND;VALUE=DATE:20260320
SUMMARY:Zuschlag — Umbau und Sanierung Rathaus Gengenbach - Fensterbau
DESCRIPTION:Phase: Zuschlag | Beschreibung: Vergabeergebnis — Auftrag wurde erteilt oder Verfahren beendet. | Link: https://ausschreibungsradar.com/ausschreibung/11fd2fff-10a7-4286-a4be-b3368ac66196/
URL:https://ausschreibungsradar.com/ausschreibung/11fd2fff-10a7-4286-a4be-b3368ac66196/
END:VEVENT
END:VCALENDAR
