BEGIN:VCALENDAR
VERSION:2.0
PRODID:-//AusschreibungsRadar//Timeline//DE
CALSCALE:GREGORIAN
METHOD:PUBLISH
X-WR-CALNAME:Projekt Generalsanierung und Erweiterung der Grundschule Sugenheim m
X-WR-TIMEZONE:Europe/Berlin
BEGIN:VEVENT
UID:e217fb61f3b04230@ausschreibungsradar.com
DTSTAMP:20260425T143713Z
DTSTART;VALUE=DATE:20250414
DTEND;VALUE=DATE:20250414
SUMMARY:Zuschlag — Generalsanierung und Erweiterung der Grundschule Sugenheim m
DESCRIPTION:Phase: Zuschlag | Beschreibung: Vergabeergebnis — Auftrag wurde erteilt oder Verfahren beendet. | Link: https://ausschreibungsradar.com/ausschreibung/29edfdd0-606e-496f-9b02-945ce61fe6d9/ | Geschätzte
URL:https://ausschreibungsradar.com/ausschreibung/29edfdd0-606e-496f-9b02-945ce61fe6d9/
END:VEVENT
BEGIN:VEVENT
UID:ef89dcdf382af759@ausschreibungsradar.com
DTSTAMP:20260425T143713Z
DTSTART;VALUE=DATE:20250512
DTEND;VALUE=DATE:20250512
SUMMARY:Zuschlag — Generalsanierung und Erweiterung der Grundschule Sugenheim m
DESCRIPTION:Phase: Zuschlag | Beschreibung: Vergabeergebnis — Auftrag wurde erteilt oder Verfahren beendet. | Link: https://ausschreibungsradar.com/ausschreibung/f7dba8bd-0ab2-4182-a7be-5cd66d77cf07/
URL:https://ausschreibungsradar.com/ausschreibung/f7dba8bd-0ab2-4182-a7be-5cd66d77cf07/
END:VEVENT
END:VCALENDAR
