BEGIN:VCALENDAR
VERSION:2.0
PRODID:-//AusschreibungsRadar//Timeline//DE
CALSCALE:GREGORIAN
METHOD:PUBLISH
X-WR-CALNAME:Projekt Stadt Weingarten: Neubau Talschule Weingarten, Sanitär
X-WR-TIMEZONE:Europe/Berlin
BEGIN:VEVENT
UID:57bbe8157d1c642b@ausschreibungsradar.com
DTSTAMP:20260426T021346Z
DTSTART;VALUE=DATE:20250611
DTEND;VALUE=DATE:20250611
SUMMARY:Angebotsfrist — Stadt Weingarten: Neubau Talschule Weingarten\, Sanitär
DESCRIPTION:Phase: Ausschreibung | Beschreibung: Angebote werden eingeholt | Link: https://ausschreibungsradar.com/ausschreibung/0466b20e-2acb-46a9-8448-8385f20769f0/
URL:https://ausschreibungsradar.com/ausschreibung/0466b20e-2acb-46a9-8448-8385f20769f0/
END:VEVENT
BEGIN:VEVENT
UID:770107c11ebbcf03@ausschreibungsradar.com
DTSTAMP:20260426T021346Z
DTSTART;VALUE=DATE:20250812
DTEND;VALUE=DATE:20250812
SUMMARY:Vergabeergebnis — Stadt Weingarten: Neubau Talschule Weingarten\, Sanitär
DESCRIPTION:Phase: Vergabeergebnis | Beschreibung: Auftrag wurde zugeschlagen | Link: https://ausschreibungsradar.com/ausschreibung/2a2fd40c-e222-472f-840a-34942548382f/
URL:https://ausschreibungsradar.com/ausschreibung/2a2fd40c-e222-472f-840a-34942548382f/
END:VEVENT
BEGIN:VEVENT
UID:2aaad4011d2ce718@ausschreibungsradar.com
DTSTAMP:20260426T021346Z
DTSTART;VALUE=DATE:20250812
DTEND;VALUE=DATE:20250812
SUMMARY:Zuschlag — Stadt Weingarten: Neubau Talschule Weingarten\, Sanitär
DESCRIPTION:Phase: Zuschlag | Beschreibung: Vergabeergebnis — Auftrag wurde erteilt oder Verfahren beendet. | Link: https://ausschreibungsradar.com/ausschreibung/46567d31-ae1d-4d39-b21f-03a667a990c3/
URL:https://ausschreibungsradar.com/ausschreibung/46567d31-ae1d-4d39-b21f-03a667a990c3/
END:VEVENT
BEGIN:VEVENT
UID:d4f8a4f89eb1c94d@ausschreibungsradar.com
DTSTAMP:20260426T021346Z
DTSTART;VALUE=DATE:20250820
DTEND;VALUE=DATE:20250820
SUMMARY:Ausschreibung — Stadt Weingarten: Neubau Talschule Weingarten\, Sanitär
DESCRIPTION:Phase: Ausschreibung | Beschreibung: Offizielle Ausschreibung mit Bieterfrist. | Link: https://ausschreibungsradar.com/ausschreibung/12e078fc-a4ba-4fec-bca7-0dc1b226a3ed/
URL:https://ausschreibungsradar.com/ausschreibung/12e078fc-a4ba-4fec-bca7-0dc1b226a3ed/
END:VEVENT
END:VCALENDAR
