BEGIN:VCALENDAR
VERSION:2.0
PRODID:-//AusschreibungsRadar//Timeline//DE
CALSCALE:GREGORIAN
METHOD:PUBLISH
X-WR-CALNAME:Projekt Campus IBA-Terrassen - 2. BA/Teil 2 - Neubau Energiewerkstat
X-WR-TIMEZONE:Europe/Berlin
BEGIN:VEVENT
UID:0863c354c15ec3ca@ausschreibungsradar.com
DTSTAMP:20260424T173352Z
DTSTART;VALUE=DATE:20250120
DTEND;VALUE=DATE:20250120
SUMMARY:Angebotsfrist — Campus IBA-Terrassen - 2. BA/Teil 2 - Neubau Energiewerkstat
DESCRIPTION:Phase: Ausschreibung | Beschreibung: Angebote werden eingeholt | Link: https://ausschreibungsradar.com/ausschreibung/1ef1b3a6-f1af-40b4-a3e3-d51073ecf745/
URL:https://ausschreibungsradar.com/ausschreibung/1ef1b3a6-f1af-40b4-a3e3-d51073ecf745/
END:VEVENT
BEGIN:VEVENT
UID:8146a436b793c81f@ausschreibungsradar.com
DTSTAMP:20260424T173352Z
DTSTART;VALUE=DATE:20241217
DTEND;VALUE=DATE:20241217
SUMMARY:Ausschreibung — Campus IBA-Terrassen - 2. BA/Teil 2 - Neubau Energiewerkstat
DESCRIPTION:Phase: Ausschreibung | Beschreibung: Offizielle Ausschreibung mit Bieterfrist. | Link: https://ausschreibungsradar.com/ausschreibung/d86a5f0f-fe15-4c05-886c-eb2f1e2102a0/
URL:https://ausschreibungsradar.com/ausschreibung/d86a5f0f-fe15-4c05-886c-eb2f1e2102a0/
END:VEVENT
BEGIN:VEVENT
UID:5a51ed4c57db4c59@ausschreibungsradar.com
DTSTAMP:20260424T173352Z
DTSTART;VALUE=DATE:20250422
DTEND;VALUE=DATE:20250422
SUMMARY:Vergabeergebnis — Campus IBA-Terrassen - 2. BA/Teil 2 - Neubau Energiewerkstat
DESCRIPTION:Phase: Vergabeergebnis | Beschreibung: Auftrag wurde zugeschlagen | Link: https://ausschreibungsradar.com/ausschreibung/2acd9999-07d4-4ef6-bd87-7a8dbcce7289/
URL:https://ausschreibungsradar.com/ausschreibung/2acd9999-07d4-4ef6-bd87-7a8dbcce7289/
END:VEVENT
BEGIN:VEVENT
UID:b434fbcdfea6779e@ausschreibungsradar.com
DTSTAMP:20260424T173352Z
DTSTART;VALUE=DATE:20250430
DTEND;VALUE=DATE:20250430
SUMMARY:Ausschreibung — Campus IBA-Terrassen - 2. BA/Teil 2 - Neubau Energiewerkstat
DESCRIPTION:Phase: Ausschreibung | Beschreibung: Offizielle Ausschreibung mit Bieterfrist. | Link: https://ausschreibungsradar.com/ausschreibung/3c3050dc-1c9a-4930-99e9-25ecc1fa0af5/
URL:https://ausschreibungsradar.com/ausschreibung/3c3050dc-1c9a-4930-99e9-25ecc1fa0af5/
END:VEVENT
END:VCALENDAR
