BEGIN:VCALENDAR
VERSION:2.0
PRODID:-//AusschreibungsRadar//Timeline//DE
CALSCALE:GREGORIAN
METHOD:PUBLISH
X-WR-CALNAME:Projekt Generalsanierug Hohenstaufen Gymnasium - Sanitärinstallation
X-WR-TIMEZONE:Europe/Berlin
BEGIN:VEVENT
UID:ae8fa5f07e9d38a4@ausschreibungsradar.com
DTSTAMP:20260425T143548Z
DTSTART;VALUE=DATE:20240902
DTEND;VALUE=DATE:20240902
SUMMARY:Angebotsfrist — Generalsanierug Hohenstaufen Gymnasium - Sanitärinstallation
DESCRIPTION:Phase: Ausschreibung | Beschreibung: Angebote werden eingeholt | Link: https://ausschreibungsradar.com/ausschreibung/94260f06-aea6-4c3e-baac-f2174ad7b64a/
URL:https://ausschreibungsradar.com/ausschreibung/94260f06-aea6-4c3e-baac-f2174ad7b64a/
END:VEVENT
BEGIN:VEVENT
UID:6da5d3611a2927d7@ausschreibungsradar.com
DTSTAMP:20260425T143548Z
DTSTART;VALUE=DATE:20241009
DTEND;VALUE=DATE:20241009
SUMMARY:Vergabeergebnis — Generalsanierug Hohenstaufen Gymnasium - Sanitärinstallation
DESCRIPTION:Phase: Vergabeergebnis | Beschreibung: Auftrag wurde zugeschlagen | Link: https://ausschreibungsradar.com/ausschreibung/2b1765e4-d544-4194-82e4-5bd0f33e95d2/
URL:https://ausschreibungsradar.com/ausschreibung/2b1765e4-d544-4194-82e4-5bd0f33e95d2/
END:VEVENT
BEGIN:VEVENT
UID:0617293d1f5cf962@ausschreibungsradar.com
DTSTAMP:20260425T143548Z
DTSTART;VALUE=DATE:20241009
DTEND;VALUE=DATE:20241009
SUMMARY:Zuschlag — Generalsanierug Hohenstaufen Gymnasium - Sanitärinstallation
DESCRIPTION:Phase: Zuschlag | Beschreibung: Vergabeergebnis — Auftrag wurde erteilt oder Verfahren beendet. | Link: https://ausschreibungsradar.com/ausschreibung/23a95751-43e5-46d4-b958-29e8f489ef65/
URL:https://ausschreibungsradar.com/ausschreibung/23a95751-43e5-46d4-b958-29e8f489ef65/
END:VEVENT
END:VCALENDAR
