BEGIN:VCALENDAR
VERSION:2.0
PRODID:-//AusschreibungsRadar//Timeline//DE
CALSCALE:GREGORIAN
METHOD:PUBLISH
X-WR-CALNAME:Projekt Grundschule Nenndorf, Um- und Anbau - Elektroinstallationsar
X-WR-TIMEZONE:Europe/Berlin
BEGIN:VEVENT
UID:e496db7413847240@ausschreibungsradar.com
DTSTAMP:20260425T220932Z
DTSTART;VALUE=DATE:20260316
DTEND;VALUE=DATE:20260316
SUMMARY:Ausschreibung — Grundschule Nenndorf\, Um- und Anbau - Elektroinstallationsar
DESCRIPTION:Phase: Ausschreibung | Beschreibung: Offizielle Ausschreibung mit Bieterfrist. | Link: https://ausschreibungsradar.com/ausschreibung/ebb648de-9fe6-40fb-8e59-a2cb5869cf20/
URL:https://ausschreibungsradar.com/ausschreibung/ebb648de-9fe6-40fb-8e59-a2cb5869cf20/
END:VEVENT
BEGIN:VEVENT
UID:2c473a6fd066401f@ausschreibungsradar.com
DTSTAMP:20260425T220932Z
DTSTART;VALUE=DATE:20260430
DTEND;VALUE=DATE:20260430
SUMMARY:Angebotsfrist — Grundschule Nenndorf\, Um- und Anbau - Elektroinstallationsar
DESCRIPTION:Phase: Ausschreibung | Beschreibung: Angebote werden eingeholt | Link: https://ausschreibungsradar.com/ausschreibung/2b96b8dd-fabf-4454-9768-ca6ed446f599/
URL:https://ausschreibungsradar.com/ausschreibung/2b96b8dd-fabf-4454-9768-ca6ed446f599/
END:VEVENT
END:VCALENDAR
