BEGIN:VCALENDAR
VERSION:2.0
PRODID:-//AusschreibungsRadar//Timeline//DE
CALSCALE:GREGORIAN
METHOD:PUBLISH
X-WR-CALNAME:Projekt B-Streckensperrung Ostern 2024 => Schienenersatzverkehr SEV
X-WR-TIMEZONE:Europe/Berlin
BEGIN:VEVENT
UID:852da8aba6438795@ausschreibungsradar.com
DTSTAMP:20260425T024913Z
DTSTART;VALUE=DATE:20240123
DTEND;VALUE=DATE:20240123
SUMMARY:Ausschreibung — B-Streckensperrung Ostern 2024 => Schienenersatzverkehr SEV
DESCRIPTION:Phase: Ausschreibung | Beschreibung: Angebote werden eingeholt | Link: https://ausschreibungsradar.com/ausschreibung/2bc4058b-d302-4143-88e6-be456dff9d90/ | Geschätzter Wert: 505960 €
URL:https://ausschreibungsradar.com/ausschreibung/2bc4058b-d302-4143-88e6-be456dff9d90/
END:VEVENT
BEGIN:VEVENT
UID:70189a269a8da6ed@ausschreibungsradar.com
DTSTAMP:20260425T024913Z
DTSTART;VALUE=DATE:20240123
DTEND;VALUE=DATE:20240123
SUMMARY:Ausschreibung — B-Streckensperrung Ostern 2024 => Schienenersatzverkehr SEV
DESCRIPTION:Phase: Ausschreibung | Beschreibung: Offizielle Ausschreibung mit Bieterfrist. | Link: https://ausschreibungsradar.com/ausschreibung/89a303cb-cc13-4026-82cb-e7415dd64a30/
URL:https://ausschreibungsradar.com/ausschreibung/89a303cb-cc13-4026-82cb-e7415dd64a30/
END:VEVENT
BEGIN:VEVENT
UID:313a035d2d91b581@ausschreibungsradar.com
DTSTAMP:20260425T024913Z
DTSTART;VALUE=DATE:20240123
DTEND;VALUE=DATE:20240123
SUMMARY:Ausschreibung — B-Streckensperrung Ostern 2024 => Schienenersatzverkehr SEV
DESCRIPTION:Phase: Ausschreibung | Beschreibung: Offizielle Ausschreibung mit Bieterfrist. | Link: https://ausschreibungsradar.com/ausschreibung/9446c67a-a5e7-49d1-9563-abeb06bdc477/
URL:https://ausschreibungsradar.com/ausschreibung/9446c67a-a5e7-49d1-9563-abeb06bdc477/
END:VEVENT
BEGIN:VEVENT
UID:361a4bfdfd963c1f@ausschreibungsradar.com
DTSTAMP:20260425T024913Z
DTSTART;VALUE=DATE:20240201
DTEND;VALUE=DATE:20240201
SUMMARY:Ausschreibung — B-Streckensperrung Ostern 2024 => Schienenersatzverkehr SEV
DESCRIPTION:Phase: Ausschreibung | Beschreibung: Offizielle Ausschreibung mit Bieterfrist. | Link: https://ausschreibungsradar.com/ausschreibung/ted-66127-2024/
URL:https://ausschreibungsradar.com/ausschreibung/ted-66127-2024/
END:VEVENT
BEGIN:VEVENT
UID:0ac61f950a4f1ad1@ausschreibungsradar.com
DTSTAMP:20260425T024913Z
DTSTART;VALUE=DATE:20240325
DTEND;VALUE=DATE:20240325
SUMMARY:Vergabeergebnis — B-Streckensperrung Ostern 2024 => Schienenersatzverkehr SEV
DESCRIPTION:Phase: Vergabeergebnis | Beschreibung: Auftrag wurde zugeschlagen | Link: https://ausschreibungsradar.com/ausschreibung/fe42839c-9938-4130-8ef2-3cff6609eace/ | Geschätzter Wert: 1 €
URL:https://ausschreibungsradar.com/ausschreibung/fe42839c-9938-4130-8ef2-3cff6609eace/
END:VEVENT
END:VCALENDAR
