BEGIN:VCALENDAR
VERSION:2.0
PRODID:-//AusschreibungsRadar//Timeline//DE
CALSCALE:GREGORIAN
METHOD:PUBLISH
X-WR-CALNAME:Projekt Neubau Kindertagesstätte Am Kreuzloch - Objektplanung mit Fr
X-WR-TIMEZONE:Europe/Berlin
BEGIN:VEVENT
UID:1795f101702f069a@ausschreibungsradar.com
DTSTAMP:20260424T090949Z
DTSTART;VALUE=DATE:20250919
DTEND;VALUE=DATE:20250919
SUMMARY:Ausschreibung — Neubau Kindertagesstätte Am Kreuzloch - Objektplanung mit Fr
DESCRIPTION:Phase: Ausschreibung | Beschreibung: Angebote werden eingeholt | Link: https://ausschreibungsradar.com/ausschreibung/640941a8-dc88-48d2-89f2-2226898ed53a/
URL:https://ausschreibungsradar.com/ausschreibung/640941a8-dc88-48d2-89f2-2226898ed53a/
END:VEVENT
BEGIN:VEVENT
UID:6eef96ec926ee9aa@ausschreibungsradar.com
DTSTAMP:20260424T090949Z
DTSTART;VALUE=DATE:20260120
DTEND;VALUE=DATE:20260120
SUMMARY:Vergabeergebnis — Neubau Kindertagesstätte Am Kreuzloch - Objektplanung mit Fr
DESCRIPTION:Phase: Vergabeergebnis | Beschreibung: Auftrag wurde zugeschlagen | Link: https://ausschreibungsradar.com/ausschreibung/2bccc976-22cf-43da-b9d7-a173e3ca3793/
URL:https://ausschreibungsradar.com/ausschreibung/2bccc976-22cf-43da-b9d7-a173e3ca3793/
END:VEVENT
BEGIN:VEVENT
UID:5e45ad697cc2406d@ausschreibungsradar.com
DTSTAMP:20260424T090949Z
DTSTART;VALUE=DATE:20260120
DTEND;VALUE=DATE:20260120
SUMMARY:Zuschlag — Neubau Kindertagesstätte Am Kreuzloch - Objektplanung mit Fr
DESCRIPTION:Phase: Zuschlag | Beschreibung: Vergabeergebnis — Auftrag wurde erteilt oder Verfahren beendet. | Link: https://ausschreibungsradar.com/ausschreibung/dc10d8bd-7e3c-4dbc-aa78-08d8fa961d18/
URL:https://ausschreibungsradar.com/ausschreibung/dc10d8bd-7e3c-4dbc-aa78-08d8fa961d18/
END:VEVENT
BEGIN:VEVENT
UID:ab5ec687228f4e01@ausschreibungsradar.com
DTSTAMP:20260424T090949Z
DTSTART;VALUE=DATE:20260120
DTEND;VALUE=DATE:20260120
SUMMARY:Zuschlag — Neubau Kindertagesstätte Am Kreuzloch - Objektplanung mit Fr
DESCRIPTION:Phase: Zuschlag | Beschreibung: Vergabeergebnis — Auftrag wurde erteilt oder Verfahren beendet. | Link: https://ausschreibungsradar.com/ausschreibung/8bb25878-04b2-4e47-986e-b6f36976a1f2/
URL:https://ausschreibungsradar.com/ausschreibung/8bb25878-04b2-4e47-986e-b6f36976a1f2/
END:VEVENT
END:VCALENDAR
