BEGIN:VCALENDAR
VERSION:2.0
PRODID:-//AusschreibungsRadar//Timeline//DE
CALSCALE:GREGORIAN
METHOD:PUBLISH
X-WR-CALNAME:Projekt Sammlung und Transport von Rest- und Bioabfall sowie Sperrmü
X-WR-TIMEZONE:Europe/Berlin
BEGIN:VEVENT
UID:b6dca5c8af960752@ausschreibungsradar.com
DTSTAMP:20260425T023931Z
DTSTART;VALUE=DATE:20250728
DTEND;VALUE=DATE:20250728
SUMMARY:Angebotsfrist — Sammlung und Transport von Rest- und Bioabfall sowie Sperrmü
DESCRIPTION:Phase: Ausschreibung | Beschreibung: Angebote werden eingeholt | Link: https://ausschreibungsradar.com/ausschreibung/2bdf0f1b-3730-4683-b051-d2bb1c3986d2/
URL:https://ausschreibungsradar.com/ausschreibung/2bdf0f1b-3730-4683-b051-d2bb1c3986d2/
END:VEVENT
END:VCALENDAR
