BEGIN:VCALENDAR
VERSION:2.0
PRODID:-//AusschreibungsRadar//Timeline//DE
CALSCALE:GREGORIAN
METHOD:PUBLISH
X-WR-CALNAME:Projekt Planungs- und Ingenieurleistungen zur Errichtung eines Gigab
X-WR-TIMEZONE:Europe/Berlin
BEGIN:VEVENT
UID:a03602424cef1b2b@ausschreibungsradar.com
DTSTAMP:20260424T225341Z
DTSTART;VALUE=DATE:20260417
DTEND;VALUE=DATE:20260417
SUMMARY:Zuschlag — Planungs- und Ingenieurleistungen zur Errichtung eines Gigab
DESCRIPTION:Phase: Zuschlag | Beschreibung: Vergabeergebnis — Auftrag wurde erteilt oder Verfahren beendet. | Link: https://ausschreibungsradar.com/ausschreibung/2be04600-cf46-42ba-be54-5fc98ae65a65/
URL:https://ausschreibungsradar.com/ausschreibung/2be04600-cf46-42ba-be54-5fc98ae65a65/
END:VEVENT
BEGIN:VEVENT
UID:711de5693b7a7271@ausschreibungsradar.com
DTSTAMP:20260424T225341Z
DTSTART;VALUE=DATE:20260420
DTEND;VALUE=DATE:20260420
SUMMARY:Zuschlag — Planungs- und Ingenieurleistungen zur Errichtung eines Gigab
DESCRIPTION:Phase: Zuschlag | Beschreibung: Vergabeergebnis — Auftrag wurde erteilt oder Verfahren beendet. | Link: https://ausschreibungsradar.com/ausschreibung/ted-268844-2026/
URL:https://ausschreibungsradar.com/ausschreibung/ted-268844-2026/
END:VEVENT
END:VCALENDAR
