BEGIN:VCALENDAR
VERSION:2.0
PRODID:-//AusschreibungsRadar//Timeline//DE
CALSCALE:GREGORIAN
METHOD:PUBLISH
X-WR-CALNAME:Projekt FW Gomaringen - Industrietore
X-WR-TIMEZONE:Europe/Berlin
BEGIN:VEVENT
UID:88f23977749cf26a@ausschreibungsradar.com
DTSTAMP:20260424T203551Z
DTSTART;VALUE=DATE:20251103
DTEND;VALUE=DATE:20251103
SUMMARY:Angebotsfrist — FW Gomaringen - Industrietore
DESCRIPTION:Phase: Ausschreibung | Beschreibung: Angebote werden eingeholt | Link: https://ausschreibungsradar.com/ausschreibung/05c309aa-e790-49d0-9ed1-2b099524919a/
URL:https://ausschreibungsradar.com/ausschreibung/05c309aa-e790-49d0-9ed1-2b099524919a/
END:VEVENT
BEGIN:VEVENT
UID:f5085fd8c5bd9fb0@ausschreibungsradar.com
DTSTAMP:20260424T203551Z
DTSTART;VALUE=DATE:20251208
DTEND;VALUE=DATE:20251208
SUMMARY:Vergabeergebnis — FW Gomaringen - Industrietore
DESCRIPTION:Phase: Vergabeergebnis | Beschreibung: Auftrag wurde zugeschlagen | Link: https://ausschreibungsradar.com/ausschreibung/2c1715fa-0e43-4598-b8bb-39a0ef13effd/
URL:https://ausschreibungsradar.com/ausschreibung/2c1715fa-0e43-4598-b8bb-39a0ef13effd/
END:VEVENT
END:VCALENDAR
