BEGIN:VCALENDAR
VERSION:2.0
PRODID:-//AusschreibungsRadar//Timeline//DE
CALSCALE:GREGORIAN
METHOD:PUBLISH
X-WR-CALNAME:Projekt Neubau Funktionsgebäude für Sportplatz - Los 05 Elektro
X-WR-TIMEZONE:Europe/Berlin
BEGIN:VEVENT
UID:f510f081542622bf@ausschreibungsradar.com
DTSTAMP:20260424T135934Z
DTSTART;VALUE=DATE:20260113
DTEND;VALUE=DATE:20260113
SUMMARY:Ausschreibung — Neubau Funktionsgebäude für Sportplatz - Los 05 Elektro
DESCRIPTION:Phase: Ausschreibung | Beschreibung: Offizielle Ausschreibung mit Bieterfrist. | Link: https://ausschreibungsradar.com/ausschreibung/9f970bfe-2095-459a-b6e8-abac8e4723aa/
URL:https://ausschreibungsradar.com/ausschreibung/9f970bfe-2095-459a-b6e8-abac8e4723aa/
END:VEVENT
BEGIN:VEVENT
UID:af770380b8458328@ausschreibungsradar.com
DTSTAMP:20260424T135934Z
DTSTART;VALUE=DATE:20260113
DTEND;VALUE=DATE:20260113
SUMMARY:Ausschreibung — Neubau Funktionsgebäude für Sportplatz - Los 05 Elektro
DESCRIPTION:Phase: Ausschreibung | Beschreibung: Offizielle Ausschreibung mit Bieterfrist. | Link: https://ausschreibungsradar.com/ausschreibung/df97b91a-97e2-4872-b91b-a5b335a9c10f/
URL:https://ausschreibungsradar.com/ausschreibung/df97b91a-97e2-4872-b91b-a5b335a9c10f/
END:VEVENT
BEGIN:VEVENT
UID:eff626c0f11b04be@ausschreibungsradar.com
DTSTAMP:20260424T135934Z
DTSTART;VALUE=DATE:20260122
DTEND;VALUE=DATE:20260122
SUMMARY:Ausschreibung — Neubau Funktionsgebäude für Sportplatz - Los 05 Elektro
DESCRIPTION:Phase: Ausschreibung | Beschreibung: Offizielle Ausschreibung mit Bieterfrist. | Link: https://ausschreibungsradar.com/ausschreibung/2c537ace-9d6b-4201-ad10-55416d2dd1ef/
URL:https://ausschreibungsradar.com/ausschreibung/2c537ace-9d6b-4201-ad10-55416d2dd1ef/
END:VEVENT
END:VCALENDAR
