BEGIN:VCALENDAR
VERSION:2.0
PRODID:-//AusschreibungsRadar//Timeline//DE
CALSCALE:GREGORIAN
METHOD:PUBLISH
X-WR-CALNAME:Projekt Lieferung eines Tanklöschfahrzeuges TLF 4000 nach DIN 14530-
X-WR-TIMEZONE:Europe/Berlin
BEGIN:VEVENT
UID:661ab8c5e8d58605@ausschreibungsradar.com
DTSTAMP:20260425T221242Z
DTSTART;VALUE=DATE:20260211
DTEND;VALUE=DATE:20260211
SUMMARY:Angebotsfrist — Lieferung eines Tanklöschfahrzeuges TLF 4000 nach DIN 14530-
DESCRIPTION:Phase: Ausschreibung | Beschreibung: Angebote werden eingeholt | Link: https://ausschreibungsradar.com/ausschreibung/2c541100-9cf9-4a89-8f65-61e4ebb407bb/
URL:https://ausschreibungsradar.com/ausschreibung/2c541100-9cf9-4a89-8f65-61e4ebb407bb/
END:VEVENT
BEGIN:VEVENT
UID:44e93d270fd5cc96@ausschreibungsradar.com
DTSTAMP:20260425T221242Z
DTSTART;VALUE=DATE:20251215
DTEND;VALUE=DATE:20251215
SUMMARY:Ausschreibung — Lieferung eines Tanklöschfahrzeuges TLF 4000 nach DIN 14530-
DESCRIPTION:Phase: Ausschreibung | Beschreibung: Offizielle Ausschreibung mit Bieterfrist. | Link: https://ausschreibungsradar.com/ausschreibung/66f7512e-d094-4c40-873b-f5c32c89f7f0/
URL:https://ausschreibungsradar.com/ausschreibung/66f7512e-d094-4c40-873b-f5c32c89f7f0/
END:VEVENT
END:VCALENDAR
