BEGIN:VCALENDAR
VERSION:2.0
PRODID:-//AusschreibungsRadar//Timeline//DE
CALSCALE:GREGORIAN
METHOD:PUBLISH
X-WR-CALNAME:Projekt Neubau eines Feuerwehrhauses - Rüttelklinker
X-WR-TIMEZONE:Europe/Berlin
BEGIN:VEVENT
UID:091fa49c42dec3fc@ausschreibungsradar.com
DTSTAMP:20260423T232654Z
DTSTART;VALUE=DATE:20250429
DTEND;VALUE=DATE:20250429
SUMMARY:Angebotsfrist — Neubau eines Feuerwehrhauses - Rüttelklinker
DESCRIPTION:Phase: Ausschreibung | Beschreibung: Angebote werden eingeholt | Link: https://ausschreibungsradar.com/ausschreibung/2c7ab34c-ddb4-4222-a1e2-6b30a2de9fe5/ | Geschätzter Wert: 170000 €
URL:https://ausschreibungsradar.com/ausschreibung/2c7ab34c-ddb4-4222-a1e2-6b30a2de9fe5/
END:VEVENT
BEGIN:VEVENT
UID:a7db9e2a4a38d74a@ausschreibungsradar.com
DTSTAMP:20260423T232654Z
DTSTART;VALUE=DATE:20250314
DTEND;VALUE=DATE:20250314
SUMMARY:Ausschreibung — Neubau eines Feuerwehrhauses - Rüttelklinker
DESCRIPTION:Phase: Ausschreibung | Beschreibung: Offizielle Ausschreibung mit Bieterfrist. | Link: https://ausschreibungsradar.com/ausschreibung/cbc7a337-37f9-40c6-b02a-72050dd11827/
URL:https://ausschreibungsradar.com/ausschreibung/cbc7a337-37f9-40c6-b02a-72050dd11827/
END:VEVENT
END:VCALENDAR
