BEGIN:VCALENDAR
VERSION:2.0
PRODID:-//AusschreibungsRadar//Timeline//DE
CALSCALE:GREGORIAN
METHOD:PUBLISH
X-WR-CALNAME:Projekt Elektro- und Telefonanlage
X-WR-TIMEZONE:Europe/Berlin
BEGIN:VEVENT
UID:bb439a1106eb3d09@ausschreibungsradar.com
DTSTAMP:20260426T004021Z
DTSTART;VALUE=DATE:20251008
DTEND;VALUE=DATE:20251008
SUMMARY:Angebotsfrist — Elektro- und Telefonanlage
DESCRIPTION:Phase: Ausschreibung | Beschreibung: Angebote werden eingeholt | Link: https://ausschreibungsradar.com/ausschreibung/2c8857bb-81f3-4320-90e9-bc4a498d4e76/
URL:https://ausschreibungsradar.com/ausschreibung/2c8857bb-81f3-4320-90e9-bc4a498d4e76/
END:VEVENT
BEGIN:VEVENT
UID:35e756ea36c84756@ausschreibungsradar.com
DTSTAMP:20260426T004021Z
DTSTART;VALUE=DATE:20250909
DTEND;VALUE=DATE:20250909
SUMMARY:Ausschreibung — Elektro- und Telefonanlage
DESCRIPTION:Phase: Ausschreibung | Beschreibung: Offizielle Ausschreibung mit Bieterfrist. | Link: https://ausschreibungsradar.com/ausschreibung/0c29b1c3-288a-4b43-b655-8a282e405086/
URL:https://ausschreibungsradar.com/ausschreibung/0c29b1c3-288a-4b43-b655-8a282e405086/
END:VEVENT
END:VCALENDAR
