BEGIN:VCALENDAR
VERSION:2.0
PRODID:-//AusschreibungsRadar//Timeline//DE
CALSCALE:GREGORIAN
METHOD:PUBLISH
X-WR-CALNAME:Projekt Auswahl und Benennung von Bürger:innen als Mitglieder im Nat
X-WR-TIMEZONE:Europe/Berlin
BEGIN:VEVENT
UID:91f4a5fd8e072671@ausschreibungsradar.com
DTSTAMP:20260424T134352Z
DTSTART;VALUE=DATE:20250825
DTEND;VALUE=DATE:20250825
SUMMARY:Angebotsfrist — Auswahl und Benennung von Bürger:innen als Mitglieder im Nat
DESCRIPTION:Phase: Ausschreibung | Beschreibung: Angebote werden eingeholt | Link: https://ausschreibungsradar.com/ausschreibung/3ecdc5d3-3383-4d76-a735-0f6ee2c32a26/
URL:https://ausschreibungsradar.com/ausschreibung/3ecdc5d3-3383-4d76-a735-0f6ee2c32a26/
END:VEVENT
BEGIN:VEVENT
UID:015d1c8712a8fa81@ausschreibungsradar.com
DTSTAMP:20260424T134352Z
DTSTART;VALUE=DATE:20251111
DTEND;VALUE=DATE:20251111
SUMMARY:Vergabeergebnis — Auswahl und Benennung von Bürger:innen als Mitglieder im Nat
DESCRIPTION:Phase: Vergabeergebnis | Beschreibung: Auftrag wurde zugeschlagen | Link: https://ausschreibungsradar.com/ausschreibung/2c9a2189-ee85-4a5c-8a78-3cf4511be5c7/
URL:https://ausschreibungsradar.com/ausschreibung/2c9a2189-ee85-4a5c-8a78-3cf4511be5c7/
END:VEVENT
END:VCALENDAR
