BEGIN:VCALENDAR
VERSION:2.0
PRODID:-//AusschreibungsRadar//Timeline//DE
CALSCALE:GREGORIAN
METHOD:PUBLISH
X-WR-CALNAME:Projekt Neubau Bildungscampus Großrinderfeld - Fensterbauarbeiten
X-WR-TIMEZONE:Europe/Berlin
BEGIN:VEVENT
UID:df201942dd201d91@ausschreibungsradar.com
DTSTAMP:20260425T165716Z
DTSTART;VALUE=DATE:20250819
DTEND;VALUE=DATE:20250819
SUMMARY:Angebotsfrist — Neubau Bildungscampus Großrinderfeld - Fensterbauarbeiten
DESCRIPTION:Phase: Ausschreibung | Beschreibung: Angebote werden eingeholt | Link: https://ausschreibungsradar.com/ausschreibung/eb9adf12-8dab-4558-be72-f7c621329f89/
URL:https://ausschreibungsradar.com/ausschreibung/eb9adf12-8dab-4558-be72-f7c621329f89/
END:VEVENT
BEGIN:VEVENT
UID:b5c029d4089f8faf@ausschreibungsradar.com
DTSTAMP:20260425T165716Z
DTSTART;VALUE=DATE:20251002
DTEND;VALUE=DATE:20251002
SUMMARY:Ausschreibung — Neubau Bildungscampus Großrinderfeld - Fensterbauarbeiten
DESCRIPTION:Phase: Ausschreibung | Beschreibung: Offizielle Ausschreibung mit Bieterfrist. | Link: https://ausschreibungsradar.com/ausschreibung/d78a811d-e92a-49a0-a488-6b2998a46cd8/
URL:https://ausschreibungsradar.com/ausschreibung/d78a811d-e92a-49a0-a488-6b2998a46cd8/
END:VEVENT
BEGIN:VEVENT
UID:5b7bb4ba2f280b5f@ausschreibungsradar.com
DTSTAMP:20260425T165716Z
DTSTART;VALUE=DATE:20251008
DTEND;VALUE=DATE:20251008
SUMMARY:Vergabeergebnis — Neubau Bildungscampus Großrinderfeld - Fensterbauarbeiten
DESCRIPTION:Phase: Vergabeergebnis | Beschreibung: Auftrag wurde zugeschlagen | Link: https://ausschreibungsradar.com/ausschreibung/2d0ac941-e50b-4bf0-91f3-a62f1ec32873/
URL:https://ausschreibungsradar.com/ausschreibung/2d0ac941-e50b-4bf0-91f3-a62f1ec32873/
END:VEVENT
BEGIN:VEVENT
UID:51997a5f421708cb@ausschreibungsradar.com
DTSTAMP:20260425T165716Z
DTSTART;VALUE=DATE:20251008
DTEND;VALUE=DATE:20251008
SUMMARY:Zuschlag — Neubau Bildungscampus Großrinderfeld - Fensterbauarbeiten
DESCRIPTION:Phase: Zuschlag | Beschreibung: Vergabeergebnis — Auftrag wurde erteilt oder Verfahren beendet. | Link: https://ausschreibungsradar.com/ausschreibung/27938b32-9743-447a-bda5-6466add3c97c/
URL:https://ausschreibungsradar.com/ausschreibung/27938b32-9743-447a-bda5-6466add3c97c/
END:VEVENT
END:VCALENDAR
