BEGIN:VCALENDAR
VERSION:2.0
PRODID:-//AusschreibungsRadar//Timeline//DE
CALSCALE:GREGORIAN
METHOD:PUBLISH
X-WR-CALNAME:Projekt Qualifizierungssystem Aktivkohle Stadtwerke Düsseldorf AG
X-WR-TIMEZONE:Europe/Berlin
BEGIN:VEVENT
UID:1818276748b3d3a2@ausschreibungsradar.com
DTSTAMP:20260425T190253Z
DTSTART;VALUE=DATE:20250527
DTEND;VALUE=DATE:20250527
SUMMARY:Ausschreibung — Qualifizierungssystem Aktivkohle Stadtwerke Düsseldorf AG
DESCRIPTION:Phase: Ausschreibung | Beschreibung: Angebote werden eingeholt | Link: https://ausschreibungsradar.com/ausschreibung/2d0ad47b-4d50-4fce-952a-67583c6eef8e/
URL:https://ausschreibungsradar.com/ausschreibung/2d0ad47b-4d50-4fce-952a-67583c6eef8e/
END:VEVENT
BEGIN:VEVENT
UID:0578f79da34a12ec@ausschreibungsradar.com
DTSTAMP:20260425T190253Z
DTSTART;VALUE=DATE:20250527
DTEND;VALUE=DATE:20250527
SUMMARY:Ausschreibung — Qualifizierungssystem Aktivkohle Stadtwerke Düsseldorf AG
DESCRIPTION:Phase: Ausschreibung | Beschreibung: Offizielle Ausschreibung mit Bieterfrist. | Link: https://ausschreibungsradar.com/ausschreibung/9f18b496-108d-42d8-abd5-a3917cfea8fd/
URL:https://ausschreibungsradar.com/ausschreibung/9f18b496-108d-42d8-abd5-a3917cfea8fd/
END:VEVENT
END:VCALENDAR
