BEGIN:VCALENDAR
VERSION:2.0
PRODID:-//AusschreibungsRadar//Timeline//DE
CALSCALE:GREGORIAN
METHOD:PUBLISH
X-WR-CALNAME:Projekt A321 Baumeisterarbeiten 
X-WR-TIMEZONE:Europe/Berlin
BEGIN:VEVENT
UID:150f2c3c193993e5@ausschreibungsradar.com
DTSTAMP:20260424T124754Z
DTSTART;VALUE=DATE:20250701
DTEND;VALUE=DATE:20250701
SUMMARY:Ausschreibung — A321 Baumeisterarbeiten 
DESCRIPTION:Phase: Ausschreibung | Beschreibung: Angebote werden eingeholt | Link: https://ausschreibungsradar.com/ausschreibung/2d8ba18c-b706-4c62-b162-7bacae050839/
URL:https://ausschreibungsradar.com/ausschreibung/2d8ba18c-b706-4c62-b162-7bacae050839/
END:VEVENT
BEGIN:VEVENT
UID:18c486f196d1a378@ausschreibungsradar.com
DTSTAMP:20260424T124754Z
DTSTART;VALUE=DATE:20250701
DTEND;VALUE=DATE:20250701
SUMMARY:Ausschreibung — A321 Baumeisterarbeiten 
DESCRIPTION:Phase: Ausschreibung | Beschreibung: Offizielle Ausschreibung mit Bieterfrist. | Link: https://ausschreibungsradar.com/ausschreibung/0c897370-0dd1-4026-b36b-706eee8f7e53/
URL:https://ausschreibungsradar.com/ausschreibung/0c897370-0dd1-4026-b36b-706eee8f7e53/
END:VEVENT
BEGIN:VEVENT
UID:a8cfa5be532b64fe@ausschreibungsradar.com
DTSTAMP:20260424T124754Z
DTSTART;VALUE=DATE:20250923
DTEND;VALUE=DATE:20250923
SUMMARY:Vergabeergebnis — A321 Baumeisterarbeiten 
DESCRIPTION:Phase: Vergabeergebnis | Beschreibung: Auftrag wurde zugeschlagen | Link: https://ausschreibungsradar.com/ausschreibung/38f5f83a-e21e-46aa-a368-228f44542ba9/
URL:https://ausschreibungsradar.com/ausschreibung/38f5f83a-e21e-46aa-a368-228f44542ba9/
END:VEVENT
END:VCALENDAR
