BEGIN:VCALENDAR
VERSION:2.0
PRODID:-//AusschreibungsRadar//Timeline//DE
CALSCALE:GREGORIAN
METHOD:PUBLISH
X-WR-CALNAME:Projekt Unterstützungsleistungen bei der Bearbeitung von Vorhaben im
X-WR-TIMEZONE:Europe/Berlin
BEGIN:VEVENT
UID:532a1073297ee42a@ausschreibungsradar.com
DTSTAMP:20260424T203834Z
DTSTART;VALUE=DATE:20240708
DTEND;VALUE=DATE:20240708
SUMMARY:Angebotsfrist — Unterstützungsleistungen bei der Bearbeitung von Vorhaben im
DESCRIPTION:Phase: Ausschreibung | Beschreibung: Angebote werden eingeholt | Link: https://ausschreibungsradar.com/ausschreibung/e160a14f-06a9-4f07-b01b-f265a696ea48/
URL:https://ausschreibungsradar.com/ausschreibung/e160a14f-06a9-4f07-b01b-f265a696ea48/
END:VEVENT
BEGIN:VEVENT
UID:208c92037035688f@ausschreibungsradar.com
DTSTAMP:20260424T203834Z
DTSTART;VALUE=DATE:20240930
DTEND;VALUE=DATE:20240930
SUMMARY:Vergabeergebnis — Unterstützungsleistungen bei der Bearbeitung von Vorhaben im
DESCRIPTION:Phase: Vergabeergebnis | Beschreibung: Auftrag wurde zugeschlagen | Link: https://ausschreibungsradar.com/ausschreibung/2da097ec-88b5-490d-b546-cf7c37023f72/
URL:https://ausschreibungsradar.com/ausschreibung/2da097ec-88b5-490d-b546-cf7c37023f72/
END:VEVENT
END:VCALENDAR
