BEGIN:VCALENDAR
VERSION:2.0
PRODID:-//AusschreibungsRadar//Timeline//DE
CALSCALE:GREGORIAN
METHOD:PUBLISH
X-WR-CALNAME:Projekt Stadt Weikersheim, Sanierung Hallenbad, BA 1, Los 14 Sanitär
X-WR-TIMEZONE:Europe/Berlin
BEGIN:VEVENT
UID:cd3ca566dec2b70b@ausschreibungsradar.com
DTSTAMP:20260424T124549Z
DTSTART;VALUE=DATE:20250630
DTEND;VALUE=DATE:20250630
SUMMARY:Angebotsfrist — Stadt Weikersheim\, Sanierung Hallenbad\, BA 1\, Los 14 Sanitär
DESCRIPTION:Phase: Ausschreibung | Beschreibung: Angebote werden eingeholt | Link: https://ausschreibungsradar.com/ausschreibung/44432a2f-7fef-4e56-86c5-6c6c3fa81f3b/
URL:https://ausschreibungsradar.com/ausschreibung/44432a2f-7fef-4e56-86c5-6c6c3fa81f3b/
END:VEVENT
BEGIN:VEVENT
UID:0ca102c15cfc6998@ausschreibungsradar.com
DTSTAMP:20260424T124549Z
DTSTART;VALUE=DATE:20250822
DTEND;VALUE=DATE:20250822
SUMMARY:Vergabeergebnis — Stadt Weikersheim\, Sanierung Hallenbad\, BA 1\, Los 14 Sanitär
DESCRIPTION:Phase: Vergabeergebnis | Beschreibung: Auftrag wurde zugeschlagen | Link: https://ausschreibungsradar.com/ausschreibung/2dd93a56-17bf-4532-96a2-3b625c91be4a/
URL:https://ausschreibungsradar.com/ausschreibung/2dd93a56-17bf-4532-96a2-3b625c91be4a/
END:VEVENT
BEGIN:VEVENT
UID:367c4913804d0a3a@ausschreibungsradar.com
DTSTAMP:20260424T124549Z
DTSTART;VALUE=DATE:20250822
DTEND;VALUE=DATE:20250822
SUMMARY:Zuschlag — Stadt Weikersheim\, Sanierung Hallenbad\, BA 1\, Los 14 Sanitär
DESCRIPTION:Phase: Zuschlag | Beschreibung: Vergabeergebnis — Auftrag wurde erteilt oder Verfahren beendet. | Link: https://ausschreibungsradar.com/ausschreibung/2dd03907-6932-49b7-a49f-23d61505d1c8/
URL:https://ausschreibungsradar.com/ausschreibung/2dd03907-6932-49b7-a49f-23d61505d1c8/
END:VEVENT
BEGIN:VEVENT
UID:5f4f7ae93e9db8eb@ausschreibungsradar.com
DTSTAMP:20260424T124549Z
DTSTART;VALUE=DATE:20250822
DTEND;VALUE=DATE:20250822
SUMMARY:Zuschlag — Stadt Weikersheim\, Sanierung Hallenbad\, BA 1\, Los 14 Sanitär
DESCRIPTION:Phase: Zuschlag | Beschreibung: Vergabeergebnis — Auftrag wurde erteilt oder Verfahren beendet. | Link: https://ausschreibungsradar.com/ausschreibung/043e143b-aafd-4df4-b3a3-cac6fdd23ab4/
URL:https://ausschreibungsradar.com/ausschreibung/043e143b-aafd-4df4-b3a3-cac6fdd23ab4/
END:VEVENT
END:VCALENDAR
