BEGIN:VCALENDAR
VERSION:2.0
PRODID:-//AusschreibungsRadar//Timeline//DE
CALSCALE:GREGORIAN
METHOD:PUBLISH
X-WR-CALNAME:Projekt newPark Datteln - Objektplanung Freianlagen
X-WR-TIMEZONE:Europe/Berlin
BEGIN:VEVENT
UID:fd194fc863b4ea14@ausschreibungsradar.com
DTSTAMP:20260424T233000Z
DTSTART;VALUE=DATE:20250228
DTEND;VALUE=DATE:20250228
SUMMARY:Ausschreibung — newPark Datteln - Objektplanung Freianlagen
DESCRIPTION:Phase: Ausschreibung | Beschreibung: Angebote werden eingeholt | Link: https://ausschreibungsradar.com/ausschreibung/2df746a9-0227-4623-90ad-7103b36ff43e/
URL:https://ausschreibungsradar.com/ausschreibung/2df746a9-0227-4623-90ad-7103b36ff43e/
END:VEVENT
BEGIN:VEVENT
UID:0fbfb00a58cea4bb@ausschreibungsradar.com
DTSTAMP:20260424T233000Z
DTSTART;VALUE=DATE:20250228
DTEND;VALUE=DATE:20250228
SUMMARY:Ausschreibung — newPark Datteln - Objektplanung Freianlagen
DESCRIPTION:Phase: Ausschreibung | Beschreibung: Offizielle Ausschreibung mit Bieterfrist. | Link: https://ausschreibungsradar.com/ausschreibung/f2441d32-8bb0-4246-a4ed-f3139338becc/
URL:https://ausschreibungsradar.com/ausschreibung/f2441d32-8bb0-4246-a4ed-f3139338becc/
END:VEVENT
BEGIN:VEVENT
UID:46214848c1cec290@ausschreibungsradar.com
DTSTAMP:20260424T233000Z
DTSTART;VALUE=DATE:20250508
DTEND;VALUE=DATE:20250508
SUMMARY:Vergabeergebnis — newPark Datteln - Objektplanung Freianlagen
DESCRIPTION:Phase: Vergabeergebnis | Beschreibung: Sonstige Gründe | Link: https://ausschreibungsradar.com/ausschreibung/726bd7ab-ec89-4144-9d51-2c3c9ee00788/
URL:https://ausschreibungsradar.com/ausschreibung/726bd7ab-ec89-4144-9d51-2c3c9ee00788/
END:VEVENT
END:VCALENDAR
