BEGIN:VCALENDAR
VERSION:2.0
PRODID:-//AusschreibungsRadar//Timeline//DE
CALSCALE:GREGORIAN
METHOD:PUBLISH
X-WR-CALNAME:Projekt G46 HLSK
X-WR-TIMEZONE:Europe/Berlin
BEGIN:VEVENT
UID:ae0455b7753f95a6@ausschreibungsradar.com
DTSTAMP:20260424T120450Z
DTSTART;VALUE=DATE:20260528
DTEND;VALUE=DATE:20260528
SUMMARY:Angebotsfrist — G46 HLSK
DESCRIPTION:Phase: Ausschreibung | Beschreibung: Angebote werden eingeholt | Link: https://ausschreibungsradar.com/ausschreibung/2e4021b3-89b0-4a66-883e-b23ba3bb66d4/
URL:https://ausschreibungsradar.com/ausschreibung/2e4021b3-89b0-4a66-883e-b23ba3bb66d4/
END:VEVENT
END:VCALENDAR
