BEGIN:VCALENDAR
VERSION:2.0
PRODID:-//AusschreibungsRadar//Timeline//DE
CALSCALE:GREGORIAN
METHOD:PUBLISH
X-WR-CALNAME:Projekt Rahmenvereinbarung über Microsoft-Lizenzen für die EVL GmbH 
X-WR-TIMEZONE:Europe/Berlin
BEGIN:VEVENT
UID:5c5fa37b0acf62da@ausschreibungsradar.com
DTSTAMP:20260424T215903Z
DTSTART;VALUE=DATE:20251017
DTEND;VALUE=DATE:20251017
SUMMARY:Angebotsfrist — Rahmenvereinbarung über Microsoft-Lizenzen für die EVL GmbH 
DESCRIPTION:Phase: Ausschreibung | Beschreibung: Angebote werden eingeholt | Link: https://ausschreibungsradar.com/ausschreibung/2f5ebea0-f565-4d64-8320-9ea100ac3092/
URL:https://ausschreibungsradar.com/ausschreibung/2f5ebea0-f565-4d64-8320-9ea100ac3092/
END:VEVENT
BEGIN:VEVENT
UID:799a215fdacb7b3f@ausschreibungsradar.com
DTSTAMP:20260424T215903Z
DTSTART;VALUE=DATE:20250916
DTEND;VALUE=DATE:20250916
SUMMARY:Ausschreibung — Rahmenvereinbarung über Microsoft-Lizenzen für die EVL GmbH 
DESCRIPTION:Phase: Ausschreibung | Beschreibung: Offizielle Ausschreibung mit Bieterfrist. | Link: https://ausschreibungsradar.com/ausschreibung/dce64b27-f5c5-4ca9-9a3e-a92e719e9c4d/
URL:https://ausschreibungsradar.com/ausschreibung/dce64b27-f5c5-4ca9-9a3e-a92e719e9c4d/
END:VEVENT
BEGIN:VEVENT
UID:2a6413b51440efbb@ausschreibungsradar.com
DTSTAMP:20260424T215903Z
DTSTART;VALUE=DATE:20251118
DTEND;VALUE=DATE:20251118
SUMMARY:Vergabeergebnis — Rahmenvereinbarung über Microsoft-Lizenzen für die EVL GmbH 
DESCRIPTION:Phase: Vergabeergebnis | Beschreibung: Auftrag wurde zugeschlagen | Link: https://ausschreibungsradar.com/ausschreibung/1018e66c-feb7-441d-ba44-cd434db27d45/
URL:https://ausschreibungsradar.com/ausschreibung/1018e66c-feb7-441d-ba44-cd434db27d45/
END:VEVENT
END:VCALENDAR
