BEGIN:VCALENDAR
VERSION:2.0
PRODID:-//AusschreibungsRadar//Timeline//DE
CALSCALE:GREGORIAN
METHOD:PUBLISH
X-WR-CALNAME:Projekt 14TEI10205 2. S-Bahn-Stammstrecke München – VE 30 Rohbauarbe
X-WR-TIMEZONE:Europe/Berlin
BEGIN:VEVENT
UID:0018cb7e8e952f82@ausschreibungsradar.com
DTSTAMP:20260424T090826Z
DTSTART;VALUE=DATE:20260122
DTEND;VALUE=DATE:20260122
SUMMARY:Vertragsmodifikation — 14TEI10205 2. S-Bahn-Stammstrecke München – VE 30 Rohbauarbe
DESCRIPTION:Phase: Vertragsmodifikation | Beschreibung: Änderung am bestehenden Vertrag nach Zuschlag. | Link: https://ausschreibungsradar.com/ausschreibung/ca70e25d-9306-4812-ae07-82f00113653a/
URL:https://ausschreibungsradar.com/ausschreibung/ca70e25d-9306-4812-ae07-82f00113653a/
END:VEVENT
BEGIN:VEVENT
UID:5f91b593d43d31e9@ausschreibungsradar.com
DTSTAMP:20260424T090826Z
DTSTART;VALUE=DATE:20260123
DTEND;VALUE=DATE:20260123
SUMMARY:Vertragsmodifikation — 14TEI10205 2. S-Bahn-Stammstrecke München – VE 30 Rohbauarbe
DESCRIPTION:Phase: Vertragsmodifikation | Beschreibung: Änderung am bestehenden Vertrag nach Zuschlag. | Link: https://ausschreibungsradar.com/ausschreibung/49593c32-7cd8-48ed-b03e-6c08e2cba9e0/
URL:https://ausschreibungsradar.com/ausschreibung/49593c32-7cd8-48ed-b03e-6c08e2cba9e0/
END:VEVENT
BEGIN:VEVENT
UID:7b42596d556c41bc@ausschreibungsradar.com
DTSTAMP:20260424T090826Z
DTSTART;VALUE=DATE:20260126
DTEND;VALUE=DATE:20260126
SUMMARY:Vertragsmodifikation — 14TEI10205 2. S-Bahn-Stammstrecke München – VE 30 Rohbauarbe
DESCRIPTION:Phase: Vertragsmodifikation | Beschreibung: Änderung am bestehenden Vertrag nach Zuschlag. | Link: https://ausschreibungsradar.com/ausschreibung/8f68e092-e8c5-4c4d-ad91-758553ad79cc/
URL:https://ausschreibungsradar.com/ausschreibung/8f68e092-e8c5-4c4d-ad91-758553ad79cc/
END:VEVENT
BEGIN:VEVENT
UID:f2a38da2b1ddd963@ausschreibungsradar.com
DTSTAMP:20260424T090826Z
DTSTART;VALUE=DATE:20260203
DTEND;VALUE=DATE:20260203
SUMMARY:Vertragsmodifikation — 14TEI10205 2. S-Bahn-Stammstrecke München – VE 30 Rohbauarbe
DESCRIPTION:Phase: Vertragsmodifikation | Beschreibung: Änderung am bestehenden Vertrag nach Zuschlag. | Link: https://ausschreibungsradar.com/ausschreibung/42549b7f-c221-44af-8470-0abe3f8a868f/
URL:https://ausschreibungsradar.com/ausschreibung/42549b7f-c221-44af-8470-0abe3f8a868f/
END:VEVENT
BEGIN:VEVENT
UID:347828726a2b7c02@ausschreibungsradar.com
DTSTAMP:20260424T090826Z
DTSTART;VALUE=DATE:20260205
DTEND;VALUE=DATE:20260205
SUMMARY:Vertragsänderung — 14TEI10205 2. S-Bahn-Stammstrecke München – VE 30 Rohbauarbe
DESCRIPTION:Phase: Vertragsänderung | Beschreibung: Zusätzliche Lieferungen/Leistungen beauftragt | Link: https://ausschreibungsradar.com/ausschreibung/2f778e8f-c08e-43e3-a80b-40b995e18656/
URL:https://ausschreibungsradar.com/ausschreibung/2f778e8f-c08e-43e3-a80b-40b995e18656/
END:VEVENT
BEGIN:VEVENT
UID:f118dbe5cc92f9c0@ausschreibungsradar.com
DTSTAMP:20260424T090826Z
DTSTART;VALUE=DATE:20260205
DTEND;VALUE=DATE:20260205
SUMMARY:Vertragsmodifikation — 14TEI10205 2. S-Bahn-Stammstrecke München – VE 30 Rohbauarbe
DESCRIPTION:Phase: Vertragsmodifikation | Beschreibung: Änderung am bestehenden Vertrag nach Zuschlag. | Link: https://ausschreibungsradar.com/ausschreibung/ac635af9-6b9e-4175-8c8f-611331536765/
URL:https://ausschreibungsradar.com/ausschreibung/ac635af9-6b9e-4175-8c8f-611331536765/
END:VEVENT
END:VCALENDAR
