BEGIN:VCALENDAR
VERSION:2.0
PRODID:-//AusschreibungsRadar//Timeline//DE
CALSCALE:GREGORIAN
METHOD:PUBLISH
X-WR-CALNAME:Projekt U6 Verlängerung nach Martinsried - VE3590 Metallbauarbeiten 
X-WR-TIMEZONE:Europe/Berlin
BEGIN:VEVENT
UID:222e379cefc5845b@ausschreibungsradar.com
DTSTAMP:20260424T120556Z
DTSTART;VALUE=DATE:20241011
DTEND;VALUE=DATE:20241011
SUMMARY:Zuschlag — U6 Verlängerung nach Martinsried - VE3590 Metallbauarbeiten 
DESCRIPTION:Phase: Zuschlag | Beschreibung: Vergabeergebnis — Auftrag wurde erteilt oder Verfahren beendet. | Link: https://ausschreibungsradar.com/ausschreibung/7ac17756-ea6e-4c96-9dcc-b8d3ad3f8af6/
URL:https://ausschreibungsradar.com/ausschreibung/7ac17756-ea6e-4c96-9dcc-b8d3ad3f8af6/
END:VEVENT
BEGIN:VEVENT
UID:5a24ba33f4c7e300@ausschreibungsradar.com
DTSTAMP:20260424T120556Z
DTSTART;VALUE=DATE:20241014
DTEND;VALUE=DATE:20241014
SUMMARY:Ausschreibung — U6 Verlängerung nach Martinsried - VE3590 Metallbauarbeiten 
DESCRIPTION:Phase: Ausschreibung | Beschreibung: Offizielle Ausschreibung mit Bieterfrist. | Link: https://ausschreibungsradar.com/ausschreibung/22856878/
URL:https://ausschreibungsradar.com/ausschreibung/22856878/
END:VEVENT
BEGIN:VEVENT
UID:93bb705c5eb1f7af@ausschreibungsradar.com
DTSTAMP:20260424T120556Z
DTSTART;VALUE=DATE:20241029
DTEND;VALUE=DATE:20241029
SUMMARY:Ausschreibung — U6 Verlängerung nach Martinsried - VE3590 Metallbauarbeiten 
DESCRIPTION:Phase: Ausschreibung | Beschreibung: Offizielle Ausschreibung mit Bieterfrist. | Link: https://ausschreibungsradar.com/ausschreibung/22931274/
URL:https://ausschreibungsradar.com/ausschreibung/22931274/
END:VEVENT
BEGIN:VEVENT
UID:1026188ed8b6430e@ausschreibungsradar.com
DTSTAMP:20260424T120556Z
DTSTART;VALUE=DATE:20250124
DTEND;VALUE=DATE:20250124
SUMMARY:Angebotsfrist — U6 Verlängerung nach Martinsried - VE3590 Metallbauarbeiten 
DESCRIPTION:Phase: Ausschreibung | Beschreibung: Angebote werden eingeholt | Link: https://ausschreibungsradar.com/ausschreibung/2f8336cd-0a65-459d-ba11-3e606aef0abd/
URL:https://ausschreibungsradar.com/ausschreibung/2f8336cd-0a65-459d-ba11-3e606aef0abd/
END:VEVENT
BEGIN:VEVENT
UID:97eb24e4d7bb6837@ausschreibungsradar.com
DTSTAMP:20260424T120556Z
DTSTART;VALUE=DATE:20241105
DTEND;VALUE=DATE:20241105
SUMMARY:Ausschreibung — U6 Verlängerung nach Martinsried - VE3590 Metallbauarbeiten 
DESCRIPTION:Phase: Ausschreibung | Beschreibung: Offizielle Ausschreibung mit Bieterfrist. | Link: https://ausschreibungsradar.com/ausschreibung/3ff5915d-2bbe-4ebb-9ffc-b4685ec135e3/
URL:https://ausschreibungsradar.com/ausschreibung/3ff5915d-2bbe-4ebb-9ffc-b4685ec135e3/
END:VEVENT
BEGIN:VEVENT
UID:e0da5cd161f2d9b4@ausschreibungsradar.com
DTSTAMP:20260424T120556Z
DTSTART;VALUE=DATE:20241118
DTEND;VALUE=DATE:20241118
SUMMARY:Ausschreibung — U6 Verlängerung nach Martinsried - VE3590 Metallbauarbeiten 
DESCRIPTION:Phase: Ausschreibung | Beschreibung: Offizielle Ausschreibung mit Bieterfrist. | Link: https://ausschreibungsradar.com/ausschreibung/23025428/
URL:https://ausschreibungsradar.com/ausschreibung/23025428/
END:VEVENT
END:VCALENDAR
