BEGIN:VCALENDAR
VERSION:2.0
PRODID:-//AusschreibungsRadar//Timeline//DE
CALSCALE:GREGORIAN
METHOD:PUBLISH
X-WR-CALNAME:Projekt KWS | Erstellung der kommunalen Wärmeplanung für den Konvoi 
X-WR-TIMEZONE:Europe/Berlin
BEGIN:VEVENT
UID:3be11f821f10f447@ausschreibungsradar.com
DTSTAMP:20260424T014931Z
DTSTART;VALUE=DATE:20240911
DTEND;VALUE=DATE:20240911
SUMMARY:Ausschreibung — KWS | Erstellung der kommunalen Wärmeplanung für den Konvoi 
DESCRIPTION:Phase: Ausschreibung | Beschreibung: Angebote werden eingeholt | Link: https://ausschreibungsradar.com/ausschreibung/2f9896ad-36f2-495c-aa00-d84a4ce12395/
URL:https://ausschreibungsradar.com/ausschreibung/2f9896ad-36f2-495c-aa00-d84a4ce12395/
END:VEVENT
BEGIN:VEVENT
UID:c46e9026bde945ee@ausschreibungsradar.com
DTSTAMP:20260424T014931Z
DTSTART;VALUE=DATE:20250306
DTEND;VALUE=DATE:20250306
SUMMARY:Vergabeergebnis — KWS | Erstellung der kommunalen Wärmeplanung für den Konvoi 
DESCRIPTION:Phase: Vergabeergebnis | Beschreibung: Auftrag wurde zugeschlagen | Link: https://ausschreibungsradar.com/ausschreibung/06b0f580-a9a2-4cc8-a997-6d8b5a7e0f18/
URL:https://ausschreibungsradar.com/ausschreibung/06b0f580-a9a2-4cc8-a997-6d8b5a7e0f18/
END:VEVENT
END:VCALENDAR
