BEGIN:VCALENDAR
VERSION:2.0
PRODID:-//AusschreibungsRadar//Timeline//DE
CALSCALE:GREGORIAN
METHOD:PUBLISH
X-WR-CALNAME:Projekt Stadt Weikersheim, Sanierung Hallenbad, BA 1, Los 16 Lüftung
X-WR-TIMEZONE:Europe/Berlin
BEGIN:VEVENT
UID:19042b17cb5aec8a@ausschreibungsradar.com
DTSTAMP:20260425T205521Z
DTSTART;VALUE=DATE:20250630
DTEND;VALUE=DATE:20250630
SUMMARY:Angebotsfrist — Stadt Weikersheim\, Sanierung Hallenbad\, BA 1\, Los 16 Lüftung
DESCRIPTION:Phase: Ausschreibung | Beschreibung: Angebote werden eingeholt | Link: https://ausschreibungsradar.com/ausschreibung/2ff9707c-0b52-4938-9720-31e540bb709d/
URL:https://ausschreibungsradar.com/ausschreibung/2ff9707c-0b52-4938-9720-31e540bb709d/
END:VEVENT
BEGIN:VEVENT
UID:cd3ca566dec2b70b@ausschreibungsradar.com
DTSTAMP:20260425T205521Z
DTSTART;VALUE=DATE:20250526
DTEND;VALUE=DATE:20250526
SUMMARY:Ausschreibung — Stadt Weikersheim\, Sanierung Hallenbad\, BA 1\, Los 16 Lüftung
DESCRIPTION:Phase: Ausschreibung | Beschreibung: Offizielle Ausschreibung mit Bieterfrist. | Link: https://ausschreibungsradar.com/ausschreibung/44432a2f-7fef-4e56-86c5-6c6c3fa81f3b/
URL:https://ausschreibungsradar.com/ausschreibung/44432a2f-7fef-4e56-86c5-6c6c3fa81f3b/
END:VEVENT
BEGIN:VEVENT
UID:5f4f7ae93e9db8eb@ausschreibungsradar.com
DTSTAMP:20260425T205521Z
DTSTART;VALUE=DATE:20250822
DTEND;VALUE=DATE:20250822
SUMMARY:Vergabeergebnis — Stadt Weikersheim\, Sanierung Hallenbad\, BA 1\, Los 16 Lüftung
DESCRIPTION:Phase: Vergabeergebnis | Beschreibung: Auftrag wurde zugeschlagen | Link: https://ausschreibungsradar.com/ausschreibung/043e143b-aafd-4df4-b3a3-cac6fdd23ab4/
URL:https://ausschreibungsradar.com/ausschreibung/043e143b-aafd-4df4-b3a3-cac6fdd23ab4/
END:VEVENT
END:VCALENDAR
