BEGIN:VCALENDAR
VERSION:2.0
PRODID:-//AusschreibungsRadar//Timeline//DE
CALSCALE:GREGORIAN
METHOD:PUBLISH
X-WR-CALNAME:Projekt Interimsweise Beauftragung des Loses 2 aus dem Hauptverfahre
X-WR-TIMEZONE:Europe/Berlin
BEGIN:VEVENT
UID:439273f85f5b8bcb@ausschreibungsradar.com
DTSTAMP:20260425T134921Z
DTSTART;VALUE=DATE:20251229
DTEND;VALUE=DATE:20251229
SUMMARY:Zuschlag — Interimsweise Beauftragung des Loses 2 aus dem Hauptverfahre
DESCRIPTION:Phase: Zuschlag | Beschreibung: Vergabeergebnis — Auftrag wurde erteilt oder Verfahren beendet. | Link: https://ausschreibungsradar.com/ausschreibung/2ffdee31-30ca-4305-8470-3512ca3f1c89/
URL:https://ausschreibungsradar.com/ausschreibung/2ffdee31-30ca-4305-8470-3512ca3f1c89/
END:VEVENT
BEGIN:VEVENT
UID:3903dcfcc45760b5@ausschreibungsradar.com
DTSTAMP:20260425T134921Z
DTSTART;VALUE=DATE:20251229
DTEND;VALUE=DATE:20251229
SUMMARY:Zuschlag — Interimsweise Beauftragung des Loses 2 aus dem Hauptverfahre
DESCRIPTION:Phase: Zuschlag | Beschreibung: Vergabeergebnis — Auftrag wurde erteilt oder Verfahren beendet. | Link: https://ausschreibungsradar.com/ausschreibung/33f4221c-32e7-499c-99df-e6cef260285f/
URL:https://ausschreibungsradar.com/ausschreibung/33f4221c-32e7-499c-99df-e6cef260285f/
END:VEVENT
END:VCALENDAR
