BEGIN:VCALENDAR
VERSION:2.0
PRODID:-//AusschreibungsRadar//Timeline//DE
CALSCALE:GREGORIAN
METHOD:PUBLISH
X-WR-CALNAME:Projekt Fraunhofer IPMS-ISS Cottbus - 70-00481-2480-C Tragwerksplanu
X-WR-TIMEZONE:Europe/Berlin
BEGIN:VEVENT
UID:2dbf6a21e5b44925@ausschreibungsradar.com
DTSTAMP:20260424T002019Z
DTSTART;VALUE=DATE:20251030
DTEND;VALUE=DATE:20251030
SUMMARY:Ausschreibung — Fraunhofer IPMS-ISS Cottbus - 70-00481-2480-C Tragwerksplanu
DESCRIPTION:Phase: Ausschreibung | Beschreibung: Offizielle Ausschreibung mit Bieterfrist. | Link: https://ausschreibungsradar.com/ausschreibung/d085238f-702f-46f4-a195-67d7b305e24a/
URL:https://ausschreibungsradar.com/ausschreibung/d085238f-702f-46f4-a195-67d7b305e24a/
END:VEVENT
BEGIN:VEVENT
UID:f76c9258b4637cf3@ausschreibungsradar.com
DTSTAMP:20260424T002019Z
DTSTART;VALUE=DATE:20251030
DTEND;VALUE=DATE:20251030
SUMMARY:Ausschreibung — Fraunhofer IPMS-ISS Cottbus - 70-00481-2480-C Tragwerksplanu
DESCRIPTION:Phase: Ausschreibung | Beschreibung: Offizielle Ausschreibung mit Bieterfrist. | Link: https://ausschreibungsradar.com/ausschreibung/45e81c18-d3c4-40d3-92d1-a75d155d23f1/
URL:https://ausschreibungsradar.com/ausschreibung/45e81c18-d3c4-40d3-92d1-a75d155d23f1/
END:VEVENT
BEGIN:VEVENT
UID:277a88157e117d49@ausschreibungsradar.com
DTSTAMP:20260424T002019Z
DTSTART;VALUE=DATE:20251109
DTEND;VALUE=DATE:20251109
SUMMARY:Ausschreibung — Fraunhofer IPMS-ISS Cottbus - 70-00481-2480-C Tragwerksplanu
DESCRIPTION:Phase: Ausschreibung | Beschreibung: Offizielle Ausschreibung mit Bieterfrist. | Link: https://ausschreibungsradar.com/ausschreibung/eedefa54-2f32-4db1-a7ec-857ec55ca9b6/
URL:https://ausschreibungsradar.com/ausschreibung/eedefa54-2f32-4db1-a7ec-857ec55ca9b6/
END:VEVENT
BEGIN:VEVENT
UID:822e2508b441d429@ausschreibungsradar.com
DTSTAMP:20260424T002019Z
DTSTART;VALUE=DATE:20251109
DTEND;VALUE=DATE:20251109
SUMMARY:Ausschreibung — Fraunhofer IPMS-ISS Cottbus - 70-00481-2480-C Tragwerksplanu
DESCRIPTION:Phase: Ausschreibung | Beschreibung: Offizielle Ausschreibung mit Bieterfrist. | Link: https://ausschreibungsradar.com/ausschreibung/03abf1a5-f1f4-40af-83aa-c6491afd0012/
URL:https://ausschreibungsradar.com/ausschreibung/03abf1a5-f1f4-40af-83aa-c6491afd0012/
END:VEVENT
BEGIN:VEVENT
UID:72431a402ae8c1c0@ausschreibungsradar.com
DTSTAMP:20260424T002019Z
DTSTART;VALUE=DATE:20251123
DTEND;VALUE=DATE:20251123
SUMMARY:Ausschreibung — Fraunhofer IPMS-ISS Cottbus - 70-00481-2480-C Tragwerksplanu
DESCRIPTION:Phase: Ausschreibung | Beschreibung: Angebote werden eingeholt | Link: https://ausschreibungsradar.com/ausschreibung/3007b302-a649-4faf-b7fa-1eaef62c6e91/ | Geschätzter Wert: 370000 €
URL:https://ausschreibungsradar.com/ausschreibung/3007b302-a649-4faf-b7fa-1eaef62c6e91/
END:VEVENT
BEGIN:VEVENT
UID:97cb7bc4ad17b28d@ausschreibungsradar.com
DTSTAMP:20260424T002019Z
DTSTART;VALUE=DATE:20251123
DTEND;VALUE=DATE:20251123
SUMMARY:Ausschreibung — Fraunhofer IPMS-ISS Cottbus - 70-00481-2480-C Tragwerksplanu
DESCRIPTION:Phase: Ausschreibung | Beschreibung: Offizielle Ausschreibung mit Bieterfrist. | Link: https://ausschreibungsradar.com/ausschreibung/d3c3239e-7072-4868-b461-22cbc2ffe0c3/
URL:https://ausschreibungsradar.com/ausschreibung/d3c3239e-7072-4868-b461-22cbc2ffe0c3/
END:VEVENT
END:VCALENDAR
