BEGIN:VCALENDAR
VERSION:2.0
PRODID:-//AusschreibungsRadar//Timeline//DE
CALSCALE:GREGORIAN
METHOD:PUBLISH
X-WR-CALNAME:Projekt Ausstattung Neubau der Feuerwache Schwedt/Oder in 16303 Schw
X-WR-TIMEZONE:Europe/Berlin
BEGIN:VEVENT
UID:b279537e9113f35f@ausschreibungsradar.com
DTSTAMP:20260425T234755Z
DTSTART;VALUE=DATE:20240702
DTEND;VALUE=DATE:20240702
SUMMARY:Angebotsfrist — Ausstattung Neubau der Feuerwache Schwedt/Oder in 16303 Schw
DESCRIPTION:Phase: Ausschreibung | Beschreibung: Angebote werden eingeholt | Link: https://ausschreibungsradar.com/ausschreibung/302f9df4-a460-4330-a0e3-bde75cb6a12f/
URL:https://ausschreibungsradar.com/ausschreibung/302f9df4-a460-4330-a0e3-bde75cb6a12f/
END:VEVENT
BEGIN:VEVENT
UID:922df2cc4735186a@ausschreibungsradar.com
DTSTAMP:20260425T234755Z
DTSTART;VALUE=DATE:20240603
DTEND;VALUE=DATE:20240603
SUMMARY:Ausschreibung — Ausstattung Neubau der Feuerwache Schwedt/Oder in 16303 Schw
DESCRIPTION:Phase: Ausschreibung | Beschreibung: Offizielle Ausschreibung mit Bieterfrist. | Link: https://ausschreibungsradar.com/ausschreibung/ted-324702-2024/
URL:https://ausschreibungsradar.com/ausschreibung/ted-324702-2024/
END:VEVENT
BEGIN:VEVENT
UID:1ab1dedbf8f774d5@ausschreibungsradar.com
DTSTAMP:20260425T234755Z
DTSTART;VALUE=DATE:20240827
DTEND;VALUE=DATE:20240827
SUMMARY:Vergabeergebnis — Ausstattung Neubau der Feuerwache Schwedt/Oder in 16303 Schw
DESCRIPTION:Phase: Vergabeergebnis | Beschreibung: Auftrag wurde zugeschlagen | Link: https://ausschreibungsradar.com/ausschreibung/6d9d64c2-7272-4d1d-95b7-e801738a82ba/
URL:https://ausschreibungsradar.com/ausschreibung/6d9d64c2-7272-4d1d-95b7-e801738a82ba/
END:VEVENT
END:VCALENDAR
