BEGIN:VCALENDAR
VERSION:2.0
PRODID:-//AusschreibungsRadar//Timeline//DE
CALSCALE:GREGORIAN
METHOD:PUBLISH
X-WR-CALNAME:Projekt VMware-Lizenzen
X-WR-TIMEZONE:Europe/Berlin
BEGIN:VEVENT
UID:ddfd09635b97de5c@ausschreibungsradar.com
DTSTAMP:20260425T110619Z
DTSTART;VALUE=DATE:20250115
DTEND;VALUE=DATE:20250115
SUMMARY:Ausschreibung — VMware-Lizenzen
DESCRIPTION:Phase: Ausschreibung | Beschreibung: Angebote werden eingeholt | Link: https://ausschreibungsradar.com/ausschreibung/861655e2-5258-44b5-b8bc-64d6ef46eef9/
URL:https://ausschreibungsradar.com/ausschreibung/861655e2-5258-44b5-b8bc-64d6ef46eef9/
END:VEVENT
BEGIN:VEVENT
UID:d8b9a4d3867c5442@ausschreibungsradar.com
DTSTAMP:20260425T110619Z
DTSTART;VALUE=DATE:20250115
DTEND;VALUE=DATE:20250115
SUMMARY:Ausschreibung — VMware-Lizenzen
DESCRIPTION:Phase: Ausschreibung | Beschreibung: Offizielle Ausschreibung mit Bieterfrist. | Link: https://ausschreibungsradar.com/ausschreibung/b5628339-a177-4ba1-b355-93d8c1547360/
URL:https://ausschreibungsradar.com/ausschreibung/b5628339-a177-4ba1-b355-93d8c1547360/
END:VEVENT
BEGIN:VEVENT
UID:d3ab493910b777dd@ausschreibungsradar.com
DTSTAMP:20260425T110619Z
DTSTART;VALUE=DATE:20250115
DTEND;VALUE=DATE:20250115
SUMMARY:Ausschreibung — VMware-Lizenzen
DESCRIPTION:Phase: Ausschreibung | Beschreibung: Offizielle Ausschreibung mit Bieterfrist. | Link: https://ausschreibungsradar.com/ausschreibung/9026517b-fa3c-4b1c-b89f-ea41924766af/
URL:https://ausschreibungsradar.com/ausschreibung/9026517b-fa3c-4b1c-b89f-ea41924766af/
END:VEVENT
BEGIN:VEVENT
UID:91ae3bfcb2ab052d@ausschreibungsradar.com
DTSTAMP:20260425T110619Z
DTSTART;VALUE=DATE:20250429
DTEND;VALUE=DATE:20250429
SUMMARY:Vergabeergebnis — VMware-Lizenzen
DESCRIPTION:Phase: Vergabeergebnis | Beschreibung: Auftrag wurde zugeschlagen | Link: https://ausschreibungsradar.com/ausschreibung/3087cd16-9faf-4d13-8075-78617b134013/
URL:https://ausschreibungsradar.com/ausschreibung/3087cd16-9faf-4d13-8075-78617b134013/
END:VEVENT
BEGIN:VEVENT
UID:81348f491addbfe7@ausschreibungsradar.com
DTSTAMP:20260425T110619Z
DTSTART;VALUE=DATE:20250429
DTEND;VALUE=DATE:20250429
SUMMARY:Zuschlag — VMware-Lizenzen
DESCRIPTION:Phase: Zuschlag | Beschreibung: Vergabeergebnis — Auftrag wurde erteilt oder Verfahren beendet. | Link: https://ausschreibungsradar.com/ausschreibung/22dd6f95-ac89-430a-8e3b-d0f1eb92b7fb/
URL:https://ausschreibungsradar.com/ausschreibung/22dd6f95-ac89-430a-8e3b-d0f1eb92b7fb/
END:VEVENT
END:VCALENDAR
