BEGIN:VCALENDAR
VERSION:2.0
PRODID:-//AusschreibungsRadar//Timeline//DE
CALSCALE:GREGORIAN
METHOD:PUBLISH
X-WR-CALNAME:Projekt Mobile Entwässerung von Klärschlamm 2026 - 2029, plus 1 Jahr
X-WR-TIMEZONE:Europe/Berlin
BEGIN:VEVENT
UID:f73961d6afb7df98@ausschreibungsradar.com
DTSTAMP:20260426T043039Z
DTSTART;VALUE=DATE:20260331
DTEND;VALUE=DATE:20260331
SUMMARY:Angebotsfrist — Mobile Entwässerung von Klärschlamm 2026 - 2029\, plus 1 Jahr
DESCRIPTION:Phase: Ausschreibung | Beschreibung: Angebote werden eingeholt | Link: https://ausschreibungsradar.com/ausschreibung/30bbadb4-c3a2-4d0d-8bb7-f48d51ee922c/
URL:https://ausschreibungsradar.com/ausschreibung/30bbadb4-c3a2-4d0d-8bb7-f48d51ee922c/
END:VEVENT
BEGIN:VEVENT
UID:7735bc9dd4cec084@ausschreibungsradar.com
DTSTAMP:20260426T043039Z
DTSTART;VALUE=DATE:20260212
DTEND;VALUE=DATE:20260212
SUMMARY:Ausschreibung — Mobile Entwässerung von Klärschlamm 2026 - 2029\, plus 1 Jahr
DESCRIPTION:Phase: Ausschreibung | Beschreibung: Offizielle Ausschreibung mit Bieterfrist. | Link: https://ausschreibungsradar.com/ausschreibung/a10c0f39-be63-4a98-953a-b6f96b24ec25/
URL:https://ausschreibungsradar.com/ausschreibung/a10c0f39-be63-4a98-953a-b6f96b24ec25/
END:VEVENT
BEGIN:VEVENT
UID:3a7b5a26b5e74403@ausschreibungsradar.com
DTSTAMP:20260426T043039Z
DTSTART;VALUE=DATE:20260212
DTEND;VALUE=DATE:20260212
SUMMARY:Ausschreibung — Mobile Entwässerung von Klärschlamm 2026 - 2029\, plus 1 Jahr
DESCRIPTION:Phase: Ausschreibung | Beschreibung: Offizielle Ausschreibung mit Bieterfrist. | Link: https://ausschreibungsradar.com/ausschreibung/73d14e18-1415-4683-a2a4-aadae23d3f04/
URL:https://ausschreibungsradar.com/ausschreibung/73d14e18-1415-4683-a2a4-aadae23d3f04/
END:VEVENT
END:VCALENDAR
