BEGIN:VCALENDAR
VERSION:2.0
PRODID:-//AusschreibungsRadar//Timeline//DE
CALSCALE:GREGORIAN
METHOD:PUBLISH
X-WR-CALNAME:Projekt Bauausführungsleistungen inkl. ausführungsvorbereitender Pla
X-WR-TIMEZONE:Europe/Berlin
BEGIN:VEVENT
UID:76bc13836547791e@ausschreibungsradar.com
DTSTAMP:20260425T120733Z
DTSTART;VALUE=DATE:20250410
DTEND;VALUE=DATE:20250410
SUMMARY:Ausschreibung — Bauausführungsleistungen inkl. ausführungsvorbereitender Pla
DESCRIPTION:Phase: Ausschreibung | Beschreibung: Angebote werden eingeholt | Link: https://ausschreibungsradar.com/ausschreibung/0326deed-b60f-4ece-9833-77bfaed68595/
URL:https://ausschreibungsradar.com/ausschreibung/0326deed-b60f-4ece-9833-77bfaed68595/
END:VEVENT
BEGIN:VEVENT
UID:f7db97f330c2b9aa@ausschreibungsradar.com
DTSTAMP:20260425T120733Z
DTSTART;VALUE=DATE:20260309
DTEND;VALUE=DATE:20260309
SUMMARY:Zuschlag — Bauausführungsleistungen inkl. ausführungsvorbereitender Pla
DESCRIPTION:Phase: Zuschlag | Beschreibung: Vergabeergebnis — Auftrag wurde erteilt oder Verfahren beendet. | Link: https://ausschreibungsradar.com/ausschreibung/506c4c85-d74f-4237-b694-5400de159232/
URL:https://ausschreibungsradar.com/ausschreibung/506c4c85-d74f-4237-b694-5400de159232/
END:VEVENT
BEGIN:VEVENT
UID:9319849e652f578c@ausschreibungsradar.com
DTSTAMP:20260425T120733Z
DTSTART;VALUE=DATE:20260310
DTEND;VALUE=DATE:20260310
SUMMARY:Vergabeergebnis — Bauausführungsleistungen inkl. ausführungsvorbereitender Pla
DESCRIPTION:Phase: Vergabeergebnis | Beschreibung: Auftrag wurde zugeschlagen | Link: https://ausschreibungsradar.com/ausschreibung/30fa2940-b738-478b-b654-2068c3a48636/
URL:https://ausschreibungsradar.com/ausschreibung/30fa2940-b738-478b-b654-2068c3a48636/
END:VEVENT
END:VCALENDAR
