BEGIN:VCALENDAR
VERSION:2.0
PRODID:-//AusschreibungsRadar//Timeline//DE
CALSCALE:GREGORIAN
METHOD:PUBLISH
X-WR-CALNAME:Projekt Lieferung Mittagsverpflegung Gemeinschaftsschule Deizisau so
X-WR-TIMEZONE:Europe/Berlin
BEGIN:VEVENT
UID:6e8717c4c0d55e85@ausschreibungsradar.com
DTSTAMP:20260425T151638Z
DTSTART;VALUE=DATE:20250213
DTEND;VALUE=DATE:20250213
SUMMARY:Ausschreibung — Lieferung Mittagsverpflegung Gemeinschaftsschule Deizisau so
DESCRIPTION:Phase: Ausschreibung | Beschreibung: Angebote werden eingeholt | Link: https://ausschreibungsradar.com/ausschreibung/31089443-ba80-4e42-a0f1-edec6d07f491/
URL:https://ausschreibungsradar.com/ausschreibung/31089443-ba80-4e42-a0f1-edec6d07f491/
END:VEVENT
BEGIN:VEVENT
UID:194f613ab5c4fcfb@ausschreibungsradar.com
DTSTAMP:20260425T151638Z
DTSTART;VALUE=DATE:20250528
DTEND;VALUE=DATE:20250528
SUMMARY:Vergabeergebnis — Lieferung Mittagsverpflegung Gemeinschaftsschule Deizisau so
DESCRIPTION:Phase: Vergabeergebnis | Beschreibung: Auftrag wurde zugeschlagen | Link: https://ausschreibungsradar.com/ausschreibung/fc6884fb-c8d0-4491-a647-8862e1c1a256/
URL:https://ausschreibungsradar.com/ausschreibung/fc6884fb-c8d0-4491-a647-8862e1c1a256/
END:VEVENT
END:VCALENDAR
