BEGIN:VCALENDAR
VERSION:2.0
PRODID:-//AusschreibungsRadar//Timeline//DE
CALSCALE:GREGORIAN
METHOD:PUBLISH
X-WR-CALNAME:Projekt Beschaffung von Abfallbehältern für Restmüll, Biomüll und Al
X-WR-TIMEZONE:Europe/Berlin
BEGIN:VEVENT
UID:7387b9c46f602d46@ausschreibungsradar.com
DTSTAMP:20260425T111518Z
DTSTART;VALUE=DATE:20250905
DTEND;VALUE=DATE:20250905
SUMMARY:Angebotsfrist — Beschaffung von Abfallbehältern für Restmüll\, Biomüll und Al
DESCRIPTION:Phase: Ausschreibung | Beschreibung: Angebote werden eingeholt | Link: https://ausschreibungsradar.com/ausschreibung/c2fd08ea-d60f-4590-b289-9e0761b1317b/
URL:https://ausschreibungsradar.com/ausschreibung/c2fd08ea-d60f-4590-b289-9e0761b1317b/
END:VEVENT
BEGIN:VEVENT
UID:9ce3d1cc18f35848@ausschreibungsradar.com
DTSTAMP:20260425T111518Z
DTSTART;VALUE=DATE:20251118
DTEND;VALUE=DATE:20251118
SUMMARY:Vergabeergebnis — Beschaffung von Abfallbehältern für Restmüll\, Biomüll und Al
DESCRIPTION:Phase: Vergabeergebnis | Beschreibung: Auftrag wurde zugeschlagen | Link: https://ausschreibungsradar.com/ausschreibung/3156ddef-1b1c-42e9-ba73-008585068446/
URL:https://ausschreibungsradar.com/ausschreibung/3156ddef-1b1c-42e9-ba73-008585068446/
END:VEVENT
END:VCALENDAR
