BEGIN:VCALENDAR
VERSION:2.0
PRODID:-//AusschreibungsRadar//Timeline//DE
CALSCALE:GREGORIAN
METHOD:PUBLISH
X-WR-CALNAME:Projekt Gebäudeautomation MSR MuWE-Halle
X-WR-TIMEZONE:Europe/Berlin
BEGIN:VEVENT
UID:2d0923f2efd69d62@ausschreibungsradar.com
DTSTAMP:20260424T064146Z
DTSTART;VALUE=DATE:20250430
DTEND;VALUE=DATE:20250430
SUMMARY:Angebotsfrist — Gebäudeautomation MSR MuWE-Halle
DESCRIPTION:Phase: Ausschreibung | Beschreibung: Angebote werden eingeholt | Link: https://ausschreibungsradar.com/ausschreibung/2cae9ee8-dc1f-4e65-90a8-4321af967ef1/
URL:https://ausschreibungsradar.com/ausschreibung/2cae9ee8-dc1f-4e65-90a8-4321af967ef1/
END:VEVENT
BEGIN:VEVENT
UID:80fc069c9b6a5d25@ausschreibungsradar.com
DTSTAMP:20260424T064146Z
DTSTART;VALUE=DATE:20250606
DTEND;VALUE=DATE:20250606
SUMMARY:Vergabeergebnis — Gebäudeautomation MSR MuWE-Halle
DESCRIPTION:Phase: Vergabeergebnis | Beschreibung: Auftrag wurde zugeschlagen | Link: https://ausschreibungsradar.com/ausschreibung/317097cf-091e-4cf9-aac0-bdbf7fd9cc86/
URL:https://ausschreibungsradar.com/ausschreibung/317097cf-091e-4cf9-aac0-bdbf7fd9cc86/
END:VEVENT
END:VCALENDAR
