BEGIN:VCALENDAR
VERSION:2.0
PRODID:-//AusschreibungsRadar//Timeline//DE
CALSCALE:GREGORIAN
METHOD:PUBLISH
X-WR-CALNAME:Projekt Großwärmespeicheranlage (2) Los 6 Elektrotechnik
X-WR-TIMEZONE:Europe/Berlin
BEGIN:VEVENT
UID:69f8a4e6a7535685@ausschreibungsradar.com
DTSTAMP:20260425T102712Z
DTSTART;VALUE=DATE:20241218
DTEND;VALUE=DATE:20241218
SUMMARY:Ausschreibung — Großwärmespeicheranlage (2) Los 6 Elektrotechnik
DESCRIPTION:Phase: Ausschreibung | Beschreibung: Angebote werden eingeholt | Link: https://ausschreibungsradar.com/ausschreibung/32b27931-322b-4ea1-81c9-ac7fc65c2b56/
URL:https://ausschreibungsradar.com/ausschreibung/32b27931-322b-4ea1-81c9-ac7fc65c2b56/
END:VEVENT
BEGIN:VEVENT
UID:71cf525d0e94e602@ausschreibungsradar.com
DTSTAMP:20260425T102712Z
DTSTART;VALUE=DATE:20241218
DTEND;VALUE=DATE:20241218
SUMMARY:Ausschreibung — Großwärmespeicheranlage (2) Los 6 Elektrotechnik
DESCRIPTION:Phase: Ausschreibung | Beschreibung: Offizielle Ausschreibung mit Bieterfrist. | Link: https://ausschreibungsradar.com/ausschreibung/789f340a-1954-418b-99a1-1f7bf6b3cadc/
URL:https://ausschreibungsradar.com/ausschreibung/789f340a-1954-418b-99a1-1f7bf6b3cadc/
END:VEVENT
BEGIN:VEVENT
UID:0ea39358b447b538@ausschreibungsradar.com
DTSTAMP:20260425T102712Z
DTSTART;VALUE=DATE:20250701
DTEND;VALUE=DATE:20250701
SUMMARY:Vergabeergebnis — Großwärmespeicheranlage (2) Los 6 Elektrotechnik
DESCRIPTION:Phase: Vergabeergebnis | Beschreibung: Auftrag wurde zugeschlagen | Link: https://ausschreibungsradar.com/ausschreibung/9a7b51de-3db0-45b2-9f8c-70d11f7aba34/
URL:https://ausschreibungsradar.com/ausschreibung/9a7b51de-3db0-45b2-9f8c-70d11f7aba34/
END:VEVENT
END:VCALENDAR
