BEGIN:VCALENDAR
VERSION:2.0
PRODID:-//AusschreibungsRadar//Timeline//DE
CALSCALE:GREGORIAN
METHOD:PUBLISH
X-WR-CALNAME:Projekt 2024-10-freisen-kolpinghaus-ta-hls
X-WR-TIMEZONE:Europe/Berlin
BEGIN:VEVENT
UID:76c72b674f8852bc@ausschreibungsradar.com
DTSTAMP:20260423T232400Z
DTSTART;VALUE=DATE:20241024
DTEND;VALUE=DATE:20241024
SUMMARY:Ausschreibung — 2024-10-freisen-kolpinghaus-ta-hls
DESCRIPTION:Phase: Ausschreibung | Beschreibung: Offizielle Ausschreibung mit Bieterfrist. | Link: https://ausschreibungsradar.com/ausschreibung/32c56cbb-4e55-4e59-a7d6-4451f4f583b3/
URL:https://ausschreibungsradar.com/ausschreibung/32c56cbb-4e55-4e59-a7d6-4451f4f583b3/
END:VEVENT
BEGIN:VEVENT
UID:c3ebdf23d70ca9ee@ausschreibungsradar.com
DTSTAMP:20260423T232400Z
DTSTART;VALUE=DATE:20241024
DTEND;VALUE=DATE:20241024
SUMMARY:Ausschreibung — 2024-10-freisen-kolpinghaus-ta-hls
DESCRIPTION:Phase: Ausschreibung | Beschreibung: Offizielle Ausschreibung mit Bieterfrist. | Link: https://ausschreibungsradar.com/ausschreibung/214418aa-4a80-4898-b83d-6eb8aacc60bd/
URL:https://ausschreibungsradar.com/ausschreibung/214418aa-4a80-4898-b83d-6eb8aacc60bd/
END:VEVENT
BEGIN:VEVENT
UID:56e7516f987ded9a@ausschreibungsradar.com
DTSTAMP:20260423T232400Z
DTSTART;VALUE=DATE:20241024
DTEND;VALUE=DATE:20241024
SUMMARY:Ausschreibung — 2024-10-freisen-kolpinghaus-ta-hls
DESCRIPTION:Phase: Ausschreibung | Beschreibung: Offizielle Ausschreibung mit Bieterfrist. | Link: https://ausschreibungsradar.com/ausschreibung/736c0fa3-704f-47f0-9277-3ee885eb7a9e/
URL:https://ausschreibungsradar.com/ausschreibung/736c0fa3-704f-47f0-9277-3ee885eb7a9e/
END:VEVENT
END:VCALENDAR
