BEGIN:VCALENDAR
VERSION:2.0
PRODID:-//AusschreibungsRadar//Timeline//DE
CALSCALE:GREGORIAN
METHOD:PUBLISH
X-WR-CALNAME:Projekt Krankenhaus St. Elisabeth, Neubau ZNA, Erweiterter Rohbau
X-WR-TIMEZONE:Europe/Berlin
BEGIN:VEVENT
UID:f051979c751fba27@ausschreibungsradar.com
DTSTAMP:20260425T102656Z
DTSTART;VALUE=DATE:20251216
DTEND;VALUE=DATE:20251216
SUMMARY:Ausschreibung — Krankenhaus St. Elisabeth\, Neubau ZNA\, Erweiterter Rohbau
DESCRIPTION:Phase: Ausschreibung | Beschreibung: Angebote werden eingeholt | Link: https://ausschreibungsradar.com/ausschreibung/f8334265-4556-4c11-afc1-12d837250d91/
URL:https://ausschreibungsradar.com/ausschreibung/f8334265-4556-4c11-afc1-12d837250d91/
END:VEVENT
BEGIN:VEVENT
UID:7ca1d568c84d3eae@ausschreibungsradar.com
DTSTAMP:20260425T102656Z
DTSTART;VALUE=DATE:20260319
DTEND;VALUE=DATE:20260319
SUMMARY:Vergabeergebnis — Krankenhaus St. Elisabeth\, Neubau ZNA\, Erweiterter Rohbau
DESCRIPTION:Phase: Vergabeergebnis | Beschreibung: Auftrag wurde zugeschlagen | Link: https://ausschreibungsradar.com/ausschreibung/32d9c3f3-cb05-4d04-9735-5382ac43dd8f/
URL:https://ausschreibungsradar.com/ausschreibung/32d9c3f3-cb05-4d04-9735-5382ac43dd8f/
END:VEVENT
BEGIN:VEVENT
UID:aaf73848c914674a@ausschreibungsradar.com
DTSTAMP:20260425T102656Z
DTSTART;VALUE=DATE:20260413
DTEND;VALUE=DATE:20260413
SUMMARY:Zuschlag — Krankenhaus St. Elisabeth\, Neubau ZNA\, Erweiterter Rohbau
DESCRIPTION:Phase: Zuschlag | Beschreibung: Vergabeergebnis — Auftrag wurde erteilt oder Verfahren beendet. | Link: https://ausschreibungsradar.com/ausschreibung/27bef986-519f-4dd8-bc83-240d2cd8aa3a/
URL:https://ausschreibungsradar.com/ausschreibung/27bef986-519f-4dd8-bc83-240d2cd8aa3a/
END:VEVENT
END:VCALENDAR
