BEGIN:VCALENDAR
VERSION:2.0
PRODID:-//AusschreibungsRadar//Timeline//DE
CALSCALE:GREGORIAN
METHOD:PUBLISH
X-WR-CALNAME:Projekt Erweiterung elektronische Schließanlage", ECA-2024-037
X-WR-TIMEZONE:Europe/Berlin
BEGIN:VEVENT
UID:e3b244aec120dc4c@ausschreibungsradar.com
DTSTAMP:20260424T054731Z
DTSTART;VALUE=DATE:20240610
DTEND;VALUE=DATE:20240610
SUMMARY:Angebotsfrist — Erweiterung elektronische Schließanlage"\, ECA-2024-037
DESCRIPTION:Phase: Ausschreibung | Beschreibung: Angebote werden eingeholt | Link: https://ausschreibungsradar.com/ausschreibung/33a52291-3f42-4f38-8a00-cf21b8bd3092/ | Geschätzter Wert: 1300000 €
URL:https://ausschreibungsradar.com/ausschreibung/33a52291-3f42-4f38-8a00-cf21b8bd3092/
END:VEVENT
END:VCALENDAR
