BEGIN:VCALENDAR
VERSION:2.0
PRODID:-//AusschreibungsRadar//Timeline//DE
CALSCALE:GREGORIAN
METHOD:PUBLISH
X-WR-CALNAME:Projekt Generationenbrücke in Reit im Winkl - Nutzungsänderung zu ei
X-WR-TIMEZONE:Europe/Berlin
BEGIN:VEVENT
UID:0ebef964a3bb398b@ausschreibungsradar.com
DTSTAMP:20260425T143824Z
DTSTART;VALUE=DATE:20260126
DTEND;VALUE=DATE:20260126
SUMMARY:Angebotsfrist — Generationenbrücke in Reit im Winkl - Nutzungsänderung zu ei
DESCRIPTION:Phase: Ausschreibung | Beschreibung: Angebote werden eingeholt | Link: https://ausschreibungsradar.com/ausschreibung/30bdb028-758f-4e19-807c-ac2eec6b8446/ | Geschätzter Wert: 130000 €
URL:https://ausschreibungsradar.com/ausschreibung/30bdb028-758f-4e19-807c-ac2eec6b8446/
END:VEVENT
BEGIN:VEVENT
UID:37e4f0b630537493@ausschreibungsradar.com
DTSTAMP:20260425T143824Z
DTSTART;VALUE=DATE:20260322
DTEND;VALUE=DATE:20260322
SUMMARY:Ausschreibung — Generationenbrücke in Reit im Winkl - Nutzungsänderung zu ei
DESCRIPTION:Phase: Ausschreibung | Beschreibung: Offizielle Ausschreibung mit Bieterfrist. | Link: https://ausschreibungsradar.com/ausschreibung/53cc347a-ed3f-4e6d-b5b9-ac776cdd2d80/
URL:https://ausschreibungsradar.com/ausschreibung/53cc347a-ed3f-4e6d-b5b9-ac776cdd2d80/
END:VEVENT
BEGIN:VEVENT
UID:20c51659306141e0@ausschreibungsradar.com
DTSTAMP:20260425T143824Z
DTSTART;VALUE=DATE:20260402
DTEND;VALUE=DATE:20260402
SUMMARY:Vergabeergebnis — Generationenbrücke in Reit im Winkl - Nutzungsänderung zu ei
DESCRIPTION:Phase: Vergabeergebnis | Beschreibung: Auftrag wurde zugeschlagen | Link: https://ausschreibungsradar.com/ausschreibung/33b4a051-e47e-4457-b8c8-46081c550f0b/ | Auftragnehmer: Eschrich Bedachung GmbH |
URL:https://ausschreibungsradar.com/ausschreibung/33b4a051-e47e-4457-b8c8-46081c550f0b/
END:VEVENT
BEGIN:VEVENT
UID:5b2e5731fd78daaf@ausschreibungsradar.com
DTSTAMP:20260425T143824Z
DTSTART;VALUE=DATE:20260402
DTEND;VALUE=DATE:20260402
SUMMARY:Zuschlag — Generationenbrücke in Reit im Winkl - Nutzungsänderung zu ei
DESCRIPTION:Phase: Zuschlag | Beschreibung: Vergabeergebnis — Auftrag wurde erteilt oder Verfahren beendet. | Link: https://ausschreibungsradar.com/ausschreibung/5d4b0357-fde2-4d0a-866e-f546d769726f/
URL:https://ausschreibungsradar.com/ausschreibung/5d4b0357-fde2-4d0a-866e-f546d769726f/
END:VEVENT
END:VCALENDAR
