BEGIN:VCALENDAR
VERSION:2.0
PRODID:-//AusschreibungsRadar//Timeline//DE
CALSCALE:GREGORIAN
METHOD:PUBLISH
X-WR-CALNAME:Projekt Neu- und Ersatzbeschaffung von Straßenbahnen - 30021025
X-WR-TIMEZONE:Europe/Berlin
BEGIN:VEVENT
UID:8e695ddbccf73a00@ausschreibungsradar.com
DTSTAMP:20260424T091037Z
DTSTART;VALUE=DATE:20240207
DTEND;VALUE=DATE:20240207
SUMMARY:Ausschreibung — Neu- und Ersatzbeschaffung von Straßenbahnen - 30021025
DESCRIPTION:Phase: Ausschreibung | Beschreibung: Angebote werden eingeholt | Link: https://ausschreibungsradar.com/ausschreibung/33db56de-89a2-4c24-bf42-b858d21f9109/
URL:https://ausschreibungsradar.com/ausschreibung/33db56de-89a2-4c24-bf42-b858d21f9109/
END:VEVENT
BEGIN:VEVENT
UID:6e6a1d2024f96d9e@ausschreibungsradar.com
DTSTAMP:20260424T091037Z
DTSTART;VALUE=DATE:20240207
DTEND;VALUE=DATE:20240207
SUMMARY:Ausschreibung — Neu- und Ersatzbeschaffung von Straßenbahnen - 30021025
DESCRIPTION:Phase: Ausschreibung | Beschreibung: Offizielle Ausschreibung mit Bieterfrist. | Link: https://ausschreibungsradar.com/ausschreibung/c95fff4f-55c5-479d-8624-967a34bb3530/
URL:https://ausschreibungsradar.com/ausschreibung/c95fff4f-55c5-479d-8624-967a34bb3530/
END:VEVENT
BEGIN:VEVENT
UID:a0b8aa81d35e0258@ausschreibungsradar.com
DTSTAMP:20260424T091037Z
DTSTART;VALUE=DATE:20240207
DTEND;VALUE=DATE:20240207
SUMMARY:Ausschreibung — Neu- und Ersatzbeschaffung von Straßenbahnen - 30021025
DESCRIPTION:Phase: Ausschreibung | Beschreibung: Offizielle Ausschreibung mit Bieterfrist. | Link: https://ausschreibungsradar.com/ausschreibung/119a91c5-d942-4340-bc82-d8cf07eb366b/
URL:https://ausschreibungsradar.com/ausschreibung/119a91c5-d942-4340-bc82-d8cf07eb366b/
END:VEVENT
BEGIN:VEVENT
UID:e2d7bb9c54f3ef9b@ausschreibungsradar.com
DTSTAMP:20260424T091037Z
DTSTART;VALUE=DATE:20250522
DTEND;VALUE=DATE:20250522
SUMMARY:Vergabeergebnis — Neu- und Ersatzbeschaffung von Straßenbahnen - 30021025
DESCRIPTION:Phase: Vergabeergebnis | Beschreibung: Auftrag wurde zugeschlagen | Link: https://ausschreibungsradar.com/ausschreibung/def3cc07-b2dd-4734-91d4-9a0a0c304284/
URL:https://ausschreibungsradar.com/ausschreibung/def3cc07-b2dd-4734-91d4-9a0a0c304284/
END:VEVENT
END:VCALENDAR
