BEGIN:VCALENDAR
VERSION:2.0
PRODID:-//AusschreibungsRadar//Timeline//DE
CALSCALE:GREGORIAN
METHOD:PUBLISH
X-WR-CALNAME:Projekt Lieferung Erdgas Hansestadt Salzwedel 2027 - 2028
X-WR-TIMEZONE:Europe/Berlin
BEGIN:VEVENT
UID:512bc1bf48ce3344@ausschreibungsradar.com
DTSTAMP:20260424T210749Z
DTSTART;VALUE=DATE:20260519
DTEND;VALUE=DATE:20260519
SUMMARY:Angebotsfrist — Lieferung Erdgas Hansestadt Salzwedel 2027 - 2028
DESCRIPTION:Phase: Ausschreibung | Beschreibung: Angebote werden eingeholt | Link: https://ausschreibungsradar.com/ausschreibung/33fc89a5-65d9-4522-bbad-f0f742829ae0/
URL:https://ausschreibungsradar.com/ausschreibung/33fc89a5-65d9-4522-bbad-f0f742829ae0/
END:VEVENT
END:VCALENDAR
