BEGIN:VCALENDAR
VERSION:2.0
PRODID:-//AusschreibungsRadar//Timeline//DE
CALSCALE:GREGORIAN
METHOD:PUBLISH
X-WR-CALNAME:Projekt Technologiepartnerschaft
X-WR-TIMEZONE:Europe/Berlin
BEGIN:VEVENT
UID:5fff75ff0e0ff9fc@ausschreibungsradar.com
DTSTAMP:20260426T004343Z
DTSTART;VALUE=DATE:20240723
DTEND;VALUE=DATE:20240723
SUMMARY:Ausschreibung — Technologiepartnerschaft
DESCRIPTION:Phase: Ausschreibung | Beschreibung: Angebote werden eingeholt | Link: https://ausschreibungsradar.com/ausschreibung/342cd09b-bf44-4456-b771-a92189bbe55e/
URL:https://ausschreibungsradar.com/ausschreibung/342cd09b-bf44-4456-b771-a92189bbe55e/
END:VEVENT
BEGIN:VEVENT
UID:a625d162f080374c@ausschreibungsradar.com
DTSTAMP:20260426T004343Z
DTSTART;VALUE=DATE:20240723
DTEND;VALUE=DATE:20240723
SUMMARY:Ausschreibung — Technologiepartnerschaft
DESCRIPTION:Phase: Ausschreibung | Beschreibung: Offizielle Ausschreibung mit Bieterfrist. | Link: https://ausschreibungsradar.com/ausschreibung/85048f66-913a-4fbc-8116-a78fc0c6f7f7/
URL:https://ausschreibungsradar.com/ausschreibung/85048f66-913a-4fbc-8116-a78fc0c6f7f7/
END:VEVENT
BEGIN:VEVENT
UID:af64c0e347bb72d0@ausschreibungsradar.com
DTSTAMP:20260426T004343Z
DTSTART;VALUE=DATE:20240723
DTEND;VALUE=DATE:20240723
SUMMARY:Ausschreibung — Technologiepartnerschaft
DESCRIPTION:Phase: Ausschreibung | Beschreibung: Offizielle Ausschreibung mit Bieterfrist. | Link: https://ausschreibungsradar.com/ausschreibung/1aa68541-54df-4629-a706-9899bbb6e095/
URL:https://ausschreibungsradar.com/ausschreibung/1aa68541-54df-4629-a706-9899bbb6e095/
END:VEVENT
BEGIN:VEVENT
UID:592ee1b616d22a14@ausschreibungsradar.com
DTSTAMP:20260426T004343Z
DTSTART;VALUE=DATE:20250416
DTEND;VALUE=DATE:20250416
SUMMARY:Vergabeergebnis — Technologiepartnerschaft
DESCRIPTION:Phase: Vergabeergebnis | Beschreibung: Bedarf hat sich geändert | Link: https://ausschreibungsradar.com/ausschreibung/35d638be-81cc-4737-a20c-6e16e245bf99/
URL:https://ausschreibungsradar.com/ausschreibung/35d638be-81cc-4737-a20c-6e16e245bf99/
END:VEVENT
END:VCALENDAR
