BEGIN:VCALENDAR
VERSION:2.0
PRODID:-//AusschreibungsRadar//Timeline//DE
CALSCALE:GREGORIAN
METHOD:PUBLISH
X-WR-CALNAME:Projekt HSE | Sanierung Gasthaus "Rose" und Wohnhaus 4-6, Stadtbau E
X-WR-TIMEZONE:Europe/Berlin
BEGIN:VEVENT
UID:05be7fdaf7b041a6@ausschreibungsradar.com
DTSTAMP:20260424T233226Z
DTSTART;VALUE=DATE:20231216
DTEND;VALUE=DATE:20231216
SUMMARY:Ausschreibung — HSE | Sanierung Gasthaus "Rose" und Wohnhaus 4-6\, Stadtbau E
DESCRIPTION:Phase: Ausschreibung | Beschreibung: Angebote werden eingeholt | Link: https://ausschreibungsradar.com/ausschreibung/4921d33a-7a82-4eb4-8a9f-6c2f294162d6/
URL:https://ausschreibungsradar.com/ausschreibung/4921d33a-7a82-4eb4-8a9f-6c2f294162d6/
END:VEVENT
BEGIN:VEVENT
UID:8d81697e6a92b212@ausschreibungsradar.com
DTSTAMP:20260424T233226Z
DTSTART;VALUE=DATE:20240725
DTEND;VALUE=DATE:20240725
SUMMARY:Vergabeergebnis — HSE | Sanierung Gasthaus "Rose" und Wohnhaus 4-6\, Stadtbau E
DESCRIPTION:Phase: Vergabeergebnis | Beschreibung: Auftrag wurde zugeschlagen | Link: https://ausschreibungsradar.com/ausschreibung/34c36e12-4b69-41a4-bf46-88e446af0d7b/
URL:https://ausschreibungsradar.com/ausschreibung/34c36e12-4b69-41a4-bf46-88e446af0d7b/
END:VEVENT
BEGIN:VEVENT
UID:fe95807dc1d26b20@ausschreibungsradar.com
DTSTAMP:20260424T233226Z
DTSTART;VALUE=DATE:20240725
DTEND;VALUE=DATE:20240725
SUMMARY:Zuschlag — HSE | Sanierung Gasthaus "Rose" und Wohnhaus 4-6\, Stadtbau E
DESCRIPTION:Phase: Zuschlag | Beschreibung: Vergabeergebnis — Auftrag wurde erteilt oder Verfahren beendet. | Link: https://ausschreibungsradar.com/ausschreibung/68857496-cc3d-461f-b9d4-333915cd16a9/
URL:https://ausschreibungsradar.com/ausschreibung/68857496-cc3d-461f-b9d4-333915cd16a9/
END:VEVENT
END:VCALENDAR
