BEGIN:VCALENDAR
VERSION:2.0
PRODID:-//AusschreibungsRadar//Timeline//DE
CALSCALE:GREGORIAN
METHOD:PUBLISH
X-WR-CALNAME:Projekt 4-Felder Sporthalle - Außenanlagen
X-WR-TIMEZONE:Europe/Berlin
BEGIN:VEVENT
UID:f6aad72a07cc9b25@ausschreibungsradar.com
DTSTAMP:20260426T004329Z
DTSTART;VALUE=DATE:20250306
DTEND;VALUE=DATE:20250306
SUMMARY:Angebotsfrist — 4-Felder Sporthalle - Außenanlagen
DESCRIPTION:Phase: Ausschreibung | Beschreibung: Angebote werden eingeholt | Link: https://ausschreibungsradar.com/ausschreibung/34e6abd9-7c5d-44fc-9511-c2cd30f1933d/
URL:https://ausschreibungsradar.com/ausschreibung/34e6abd9-7c5d-44fc-9511-c2cd30f1933d/
END:VEVENT
BEGIN:VEVENT
UID:51e73a8b1202e2d8@ausschreibungsradar.com
DTSTAMP:20260426T004329Z
DTSTART;VALUE=DATE:20250128
DTEND;VALUE=DATE:20250128
SUMMARY:Ausschreibung — 4-Felder Sporthalle - Außenanlagen
DESCRIPTION:Phase: Ausschreibung | Beschreibung: Offizielle Ausschreibung mit Bieterfrist. | Link: https://ausschreibungsradar.com/ausschreibung/12ee8c64-34c5-427e-9b9a-80ddd84b03ea/
URL:https://ausschreibungsradar.com/ausschreibung/12ee8c64-34c5-427e-9b9a-80ddd84b03ea/
END:VEVENT
BEGIN:VEVENT
UID:e38859927d404fbf@ausschreibungsradar.com
DTSTAMP:20260426T004329Z
DTSTART;VALUE=DATE:20250423
DTEND;VALUE=DATE:20250423
SUMMARY:Vergabeergebnis — 4-Felder Sporthalle - Außenanlagen
DESCRIPTION:Phase: Vergabeergebnis | Beschreibung: Auftrag wurde zugeschlagen | Link: https://ausschreibungsradar.com/ausschreibung/de943f3a-c538-4905-ad1c-3eb0223fa8e8/
URL:https://ausschreibungsradar.com/ausschreibung/de943f3a-c538-4905-ad1c-3eb0223fa8e8/
END:VEVENT
END:VCALENDAR
